BEGIN:VCALENDAR
VERSION:2.0
PRODID:-//Calendario de Eventos Gran Canaria - ECPv6.15.17.1//NONSGML v1.0//EN
CALSCALE:GREGORIAN
METHOD:PUBLISH
X-WR-CALNAME:Calendario de Eventos Gran Canaria
X-ORIGINAL-URL:https://calendarioeventos.com/en
X-WR-CALDESC:Events for Calendario de Eventos Gran Canaria
REFRESH-INTERVAL;VALUE=DURATION:PT1H
X-Robots-Tag:noindex
X-PUBLISHED-TTL:PT1H
BEGIN:VTIMEZONE
TZID:Europe/London
BEGIN:DAYLIGHT
TZOFFSETFROM:+0000
TZOFFSETTO:+0100
TZNAME:BST
DTSTART:20250330T010000
END:DAYLIGHT
BEGIN:STANDARD
TZOFFSETFROM:+0100
TZOFFSETTO:+0000
TZNAME:GMT
DTSTART:20251026T010000
END:STANDARD
BEGIN:DAYLIGHT
TZOFFSETFROM:+0000
TZOFFSETTO:+0100
TZNAME:BST
DTSTART:20260329T010000
END:DAYLIGHT
BEGIN:STANDARD
TZOFFSETFROM:+0100
TZOFFSETTO:+0000
TZNAME:GMT
DTSTART:20261025T010000
END:STANDARD
BEGIN:DAYLIGHT
TZOFFSETFROM:+0000
TZOFFSETTO:+0100
TZNAME:BST
DTSTART:20270328T010000
END:DAYLIGHT
BEGIN:STANDARD
TZOFFSETFROM:+0100
TZOFFSETTO:+0000
TZNAME:GMT
DTSTART:20271031T010000
END:STANDARD
END:VTIMEZONE
BEGIN:VEVENT
DTSTART;TZID=Europe/London:20260303T183000
DTEND;TZID=Europe/London:20260303T200000
DTSTAMP:20260423T221615
CREATED:20260303T164041Z
LAST-MODIFIED:20260303T164043Z
UID:64145-1772562600-1772568000@calendarioeventos.com
SUMMARY:Actividades - «8M Lomo Magullo»
DESCRIPTION:Actividades – «8M Lomo Magullo» en el Local social A.V. Las Nieves\, Telde\, Gran Canaria. \n✨ 150 mujeres del barrio forman un gran lazo violeta\, símbolo de memoria\, lucha y unión. \n🏅 Reconocimiento a vecinas y colectivos por su compromiso social\, educativo y comunitario. \n🎬 Proyección del mediometraje Como un árbol florece. \n🤝 Encuentro y convivencia vecinal. \n💬 Acto abierto a toda la ciudadanía.
URL:https://calendarioeventos.com/en/evento/actividades-8m-lomo-magullo/
LOCATION:Lomo-Magullo\, 35211 Las Palmas
CATEGORIES:Actividades,Eventos gratuitos,Telde
ATTACH;FMTTYPE=image/jpeg:https://calendarioeventos.com/wp-content/uploads/2026/03/actividades-8m-lomo-magullo-1772556029395.avif
END:VEVENT
END:VCALENDAR