BEGIN:VCALENDAR
VERSION:2.0
PRODID:-//Calendario de Eventos Gran Canaria - ECPv6.15.17.1//NONSGML v1.0//EN
CALSCALE:GREGORIAN
METHOD:PUBLISH
X-WR-CALNAME:Calendario de Eventos Gran Canaria
X-ORIGINAL-URL:https://calendarioeventos.com/en
X-WR-CALDESC:Events for Calendario de Eventos Gran Canaria
REFRESH-INTERVAL;VALUE=DURATION:PT1H
X-Robots-Tag:noindex
X-PUBLISHED-TTL:PT1H
BEGIN:VTIMEZONE
TZID:Europe/London
BEGIN:DAYLIGHT
TZOFFSETFROM:+0000
TZOFFSETTO:+0100
TZNAME:BST
DTSTART:20250330T010000
END:DAYLIGHT
BEGIN:STANDARD
TZOFFSETFROM:+0100
TZOFFSETTO:+0000
TZNAME:GMT
DTSTART:20251026T010000
END:STANDARD
BEGIN:DAYLIGHT
TZOFFSETFROM:+0000
TZOFFSETTO:+0100
TZNAME:BST
DTSTART:20260329T010000
END:DAYLIGHT
BEGIN:STANDARD
TZOFFSETFROM:+0100
TZOFFSETTO:+0000
TZNAME:GMT
DTSTART:20261025T010000
END:STANDARD
BEGIN:DAYLIGHT
TZOFFSETFROM:+0000
TZOFFSETTO:+0100
TZNAME:BST
DTSTART:20270328T010000
END:DAYLIGHT
BEGIN:STANDARD
TZOFFSETFROM:+0100
TZOFFSETTO:+0000
TZNAME:GMT
DTSTART:20271031T010000
END:STANDARD
END:VTIMEZONE
BEGIN:VEVENT
DTSTART;TZID=Europe/London:20260123T180000
DTEND;TZID=Europe/London:20260123T200000
DTSTAMP:20260421T061339
CREATED:20260123T113523Z
LAST-MODIFIED:20260123T113523Z
UID:53105-1769191200-1769198400@calendarioeventos.com
SUMMARY:Arte y Música - Graftmapping and Baked Belda
DESCRIPTION:Arte y Música – Graftmapping and Baked Belda\, music and visuals\, en C/ Perojo 38\, Las Palmas de Gran Canaria. \nArtista visual de Gran Canaria (1987)\, pionero en la fusión entre graffiti\, muralismo y videomapping\, donde el espacio urbano se convierte en un lienzo vivo de luz y color. Su proyecto GraffMapping ha recorrido ciudades y festivales internacionales en Europa\, América y Asia\, expandiendo la pintura hacia lo digital y lo performativo. \nArquitectura\, proyección y color en diálogo con la ciudad y las personas. Y yo\, poniendo música urbana y ritmos del mundo\, creando un paisaje sonoro para la intervención.
URL:https://calendarioeventos.com/en/evento/arte-y-musica-graftmapping-and-baked-belda/
LOCATION:GraffMapping Gallery & Studio\, C. Perojo\, 38\, 35003 Las Palmas de Gran Canaria\, Las Palmas
CATEGORIES:Arte,Cultura,Las Palmas de GC,Música
ATTACH;FMTTYPE=image/png:https://calendarioeventos.com/wp-content/uploads/2026/01/Screenshot-2026-01-23-at-11-32-42-Cuarta-Semana-•-Instagram.avif
END:VEVENT
END:VCALENDAR