BEGIN:VCALENDAR
VERSION:2.0
PRODID:-//Calendario de Eventos Gran Canaria - ECPv6.15.17.1//NONSGML v1.0//EN
CALSCALE:GREGORIAN
METHOD:PUBLISH
X-WR-CALNAME:Calendario de Eventos Gran Canaria
X-ORIGINAL-URL:https://calendarioeventos.com/en
X-WR-CALDESC:Events for Calendario de Eventos Gran Canaria
REFRESH-INTERVAL;VALUE=DURATION:PT1H
X-Robots-Tag:noindex
X-PUBLISHED-TTL:PT1H
BEGIN:VTIMEZONE
TZID:Europe/London
BEGIN:DAYLIGHT
TZOFFSETFROM:+0000
TZOFFSETTO:+0100
TZNAME:BST
DTSTART:20240331T010000
END:DAYLIGHT
BEGIN:STANDARD
TZOFFSETFROM:+0100
TZOFFSETTO:+0000
TZNAME:GMT
DTSTART:20241027T010000
END:STANDARD
BEGIN:DAYLIGHT
TZOFFSETFROM:+0000
TZOFFSETTO:+0100
TZNAME:BST
DTSTART:20250330T010000
END:DAYLIGHT
BEGIN:STANDARD
TZOFFSETFROM:+0100
TZOFFSETTO:+0000
TZNAME:GMT
DTSTART:20251026T010000
END:STANDARD
BEGIN:DAYLIGHT
TZOFFSETFROM:+0000
TZOFFSETTO:+0100
TZNAME:BST
DTSTART:20260329T010000
END:DAYLIGHT
BEGIN:STANDARD
TZOFFSETFROM:+0100
TZOFFSETTO:+0000
TZNAME:GMT
DTSTART:20261025T010000
END:STANDARD
END:VTIMEZONE
BEGIN:VEVENT
DTSTART;TZID=Europe/London:20251213T090000
DTEND;TZID=Europe/London:20251213T223000
DTSTAMP:20260424T082123
CREATED:20251203T174340Z
LAST-MODIFIED:20251212T133353Z
UID:40014-1765616400-1765665000@calendarioeventos.com
SUMMARY:Arucas en Navidad 13 diciembre
DESCRIPTION:Programa de eventos de «Arucas en Navidad» 2025-26 en Arucas\, Gran Canaria\, del 13 de diciembre: \n\n09:00h. PABELLÓN MUNICIPAL «OLÍMPICO JOSÉ JUAN NAVARRO BATISTA»\nTORNEO DE BALONCESTO «NI+NI-IGUALES» Organiza: Club deportivo Inclúyete.\n11:00h. PLAZA DE LA CONSTITUCIÓN\nRECOGIDA DE JUGUETES\n«UN JUGUETE\, DOS CORAZONES CONTENTOS» ENCUENTRO DE MURGAS\nAnimaciones infantiles con talleres y presencia de los Pajes Reales. Organiza: Murga las Kikirinietas.\n11:00h. CENTRO MUNICIPAL DE CULTURA\nCUENTOS DE LUZ Y MEMORIA\nSESIÓN DE CUENTOS PARA PÚBLICO FAMILIAR\, A CARGO DE LABRANTES DE LA PALABRA\nReserva de invitaciones en la App ‘Arucas\, espacio cultural’.\n12:00h. CENTRO MUNICIPAL DE CULTURA\nNACIMIENTO TEMÁTICO. «LA PASTELERÍA DE BELÉN”\nREALIZADO POR DOMINGO PÉREZ NAVARRO Hasta el 7 de enero.\n19:00h. PLAZA DE LA CONSTITUCIÓN\nMÚSICA A LA LUZ DE LAS VELAS\nCONCIERTO DE DAVID BATISTA Y ALEJANDRO MARTÍN.\n20:30h. PLAZA DE SAN JUAN\nNAVIDAD POR EL VIEJO CONTINENTE\nBANDA SINFÓNICA CIUDAD DE ARUCAS CON LA PARTICIPACIÓN DE LA CORAL POLIFÓNICA SAN JUAN DE ARUCAS\n21:00h. NUEVO TEATRO VIEJO\nJUAN ANTONIO CABRERA\n«EN LA PUNTA DE LA LENGUA» \n\nCon su ironía y sarcasmo habituales\, hace un repaso hilarante y sin filtros por los últimos acontecimientos y la historia\, poniendo sobre la mesa todo aquello que se nos queda… ¡en la punta de la lengua!\nVENTA DE ENTRADAS EN: TICKETS.ACTURA.ES
URL:https://calendarioeventos.com/en/evento/arucas-en-navidad-13-diciembre/
LOCATION:Arucas
CATEGORIES:Arucas,Concierto,Cultura,Deporte,Eventos gratuitos,Infantil,Juegos,Literatura,Música,Taller
ATTACH;FMTTYPE=image/jpeg:https://calendarioeventos.com/wp-content/uploads/2025/12/IMG_5341-719x1024-1.avif
END:VEVENT
END:VCALENDAR