BEGIN:VCALENDAR
VERSION:2.0
PRODID:-//Calendario de Eventos Gran Canaria - ECPv6.15.17.1//NONSGML v1.0//EN
CALSCALE:GREGORIAN
METHOD:PUBLISH
X-WR-CALNAME:Calendario de Eventos Gran Canaria
X-ORIGINAL-URL:https://calendarioeventos.com/en
X-WR-CALDESC:Events for Calendario de Eventos Gran Canaria
REFRESH-INTERVAL;VALUE=DURATION:PT1H
X-Robots-Tag:noindex
X-PUBLISHED-TTL:PT1H
BEGIN:VTIMEZONE
TZID:Europe/London
BEGIN:DAYLIGHT
TZOFFSETFROM:+0000
TZOFFSETTO:+0100
TZNAME:BST
DTSTART:20240331T010000
END:DAYLIGHT
BEGIN:STANDARD
TZOFFSETFROM:+0100
TZOFFSETTO:+0000
TZNAME:GMT
DTSTART:20241027T010000
END:STANDARD
BEGIN:DAYLIGHT
TZOFFSETFROM:+0000
TZOFFSETTO:+0100
TZNAME:BST
DTSTART:20250330T010000
END:DAYLIGHT
BEGIN:STANDARD
TZOFFSETFROM:+0100
TZOFFSETTO:+0000
TZNAME:GMT
DTSTART:20251026T010000
END:STANDARD
BEGIN:DAYLIGHT
TZOFFSETFROM:+0000
TZOFFSETTO:+0100
TZNAME:BST
DTSTART:20260329T010000
END:DAYLIGHT
BEGIN:STANDARD
TZOFFSETFROM:+0100
TZOFFSETTO:+0000
TZNAME:GMT
DTSTART:20261025T010000
END:STANDARD
END:VTIMEZONE
BEGIN:VEVENT
DTSTART;TZID=Europe/London:20251214T123000
DTEND;TZID=Europe/London:20251214T180000
DTSTAMP:20260424T051136
CREATED:20251203T174456Z
LAST-MODIFIED:20251212T133357Z
UID:40016-1765715400-1765735200@calendarioeventos.com
SUMMARY:Arucas en Navidad 14 diciembre
DESCRIPTION:Programa de eventos de «Arucas en Navidad» 2025-26 en Arucas\, Gran Canaria\, del 14 de diciembre: \n\n12:30h. IGLESIA DE SAN JUAN BAUTISTA\nENCUENTRO DE CORALES «CIUDAD DE ARUCAS»\nColegio Arenas Atlántico\nCEIP Arucas\nCoral Polifónica San Juan de Arucas\nEscuelas Artísticas Municipales de Arucas\n17:00h. PLAZA DE SAN JUAN\nLA REINA DE LAS NIEVES\nCamino Viejo Producciones
URL:https://calendarioeventos.com/en/evento/arucas-en-navidad-14-diciembre/
LOCATION:Arucas
CATEGORIES:Arucas,Concierto,Cultura,Eventos gratuitos,Infantil,Música,Teatro
ATTACH;FMTTYPE=image/jpeg:https://calendarioeventos.com/wp-content/uploads/2025/12/IMG_5341-719x1024-1.avif
END:VEVENT
END:VCALENDAR