BEGIN:VCALENDAR
VERSION:2.0
PRODID:-//Calendario de Eventos Gran Canaria - ECPv6.15.17.1//NONSGML v1.0//EN
CALSCALE:GREGORIAN
METHOD:PUBLISH
X-WR-CALNAME:Calendario de Eventos Gran Canaria
X-ORIGINAL-URL:https://calendarioeventos.com/en
X-WR-CALDESC:Events for Calendario de Eventos Gran Canaria
REFRESH-INTERVAL;VALUE=DURATION:PT1H
X-Robots-Tag:noindex
X-PUBLISHED-TTL:PT1H
BEGIN:VTIMEZONE
TZID:Europe/London
BEGIN:DAYLIGHT
TZOFFSETFROM:+0000
TZOFFSETTO:+0100
TZNAME:BST
DTSTART:20250330T010000
END:DAYLIGHT
BEGIN:STANDARD
TZOFFSETFROM:+0100
TZOFFSETTO:+0000
TZNAME:GMT
DTSTART:20251026T010000
END:STANDARD
BEGIN:DAYLIGHT
TZOFFSETFROM:+0000
TZOFFSETTO:+0100
TZNAME:BST
DTSTART:20260329T010000
END:DAYLIGHT
BEGIN:STANDARD
TZOFFSETFROM:+0100
TZOFFSETTO:+0000
TZNAME:GMT
DTSTART:20261025T010000
END:STANDARD
BEGIN:DAYLIGHT
TZOFFSETFROM:+0000
TZOFFSETTO:+0100
TZNAME:BST
DTSTART:20270328T010000
END:DAYLIGHT
BEGIN:STANDARD
TZOFFSETFROM:+0100
TZOFFSETTO:+0000
TZNAME:GMT
DTSTART:20271031T010000
END:STANDARD
END:VTIMEZONE
BEGIN:VEVENT
DTSTART;TZID=Europe/London:20260102T203000
DTEND;TZID=Europe/London:20260102T220000
DTSTAMP:20260424T193151
CREATED:20251222T142604Z
LAST-MODIFIED:20251222T142604Z
UID:46377-1767385800-1767391200@calendarioeventos.com
SUMMARY:Arucas en Navidad 2 enero
DESCRIPTION:Programa de eventos de «Arucas en Navidad» 2025-26 en Arucas\, Gran Canaria\, del 2 de enero: \n\n20:30h. PLAZA DE SAN JUAN\nSAID MUTI. CRIMINALES DEL SUEÑO \n\nSaid Muti llega a Arucas con la gira “Criminales del Sueño” 🎶\nUn concierto muy especial en el que presentará las canciones de su último disco y hará un recorrido por su discografía\, acompañado de la banda al completo.
URL:https://calendarioeventos.com/en/evento/arucas-en-navidad-2-enero/
LOCATION:Pl. San Juan\, Arucas\, Las Palmas
CATEGORIES:Arucas,Concierto,Cultura,Eventos gratuitos,Música
ATTACH;FMTTYPE=image/png:https://calendarioeventos.com/wp-content/uploads/2025/12/Screenshot-2025-12-22-at-14-24-59-Instagram.avif
END:VEVENT
END:VCALENDAR