BEGIN:VCALENDAR
VERSION:2.0
PRODID:-//Calendario de Eventos Gran Canaria - ECPv6.15.17.1//NONSGML v1.0//EN
CALSCALE:GREGORIAN
METHOD:PUBLISH
X-WR-CALNAME:Calendario de Eventos Gran Canaria
X-ORIGINAL-URL:https://calendarioeventos.com/en
X-WR-CALDESC:Events for Calendario de Eventos Gran Canaria
REFRESH-INTERVAL;VALUE=DURATION:PT1H
X-Robots-Tag:noindex
X-PUBLISHED-TTL:PT1H
BEGIN:VTIMEZONE
TZID:Europe/London
BEGIN:DAYLIGHT
TZOFFSETFROM:+0000
TZOFFSETTO:+0100
TZNAME:BST
DTSTART:20240331T010000
END:DAYLIGHT
BEGIN:STANDARD
TZOFFSETFROM:+0100
TZOFFSETTO:+0000
TZNAME:GMT
DTSTART:20241027T010000
END:STANDARD
BEGIN:DAYLIGHT
TZOFFSETFROM:+0000
TZOFFSETTO:+0100
TZNAME:BST
DTSTART:20250330T010000
END:DAYLIGHT
BEGIN:STANDARD
TZOFFSETFROM:+0100
TZOFFSETTO:+0000
TZNAME:GMT
DTSTART:20251026T010000
END:STANDARD
BEGIN:DAYLIGHT
TZOFFSETFROM:+0000
TZOFFSETTO:+0100
TZNAME:BST
DTSTART:20260329T010000
END:DAYLIGHT
BEGIN:STANDARD
TZOFFSETFROM:+0100
TZOFFSETTO:+0000
TZNAME:GMT
DTSTART:20261025T010000
END:STANDARD
END:VTIMEZONE
BEGIN:VEVENT
DTSTART;TZID=Europe/London:20251220T160000
DTEND;TZID=Europe/London:20251220T233000
DTSTAMP:20260424T021053
CREATED:20251211T153238Z
LAST-MODIFIED:20251211T153238Z
UID:42784-1766246400-1766273400@calendarioeventos.com
SUMMARY:Bienvenida a la Navidad - Lanzarote
DESCRIPTION:Bienvenida a la Navidad en la Plaza del Barrio de Lanzarote\, Valleseco\, Gran Canaria. \n¡Ven a recibir la Navidad a la Plaza de Lanzarote!\nHemos preparado toda una tarde actividades para dar la bienvenida a la Navidad y queremos que la disfrutes a lo grande. \nNo dejes que te lo cuenten y ven a disfrutar de la magia de estas fiestas. \n\n\n\n\nHORA\nACTIVIDAD\n\n\n16:00 – 18:00 h\nTaller de decoración de galletas para adultos/as\n\n\n16:00 – 18:00 h\nTaller de dulces para niños/as\n\n\n18:00 – 19:00 h\nActuación del Mago Abel «El Arte de lo Imposible»\n\n\nDesde las 19:00 h\nActuación de Baile Sorpresa\n\n\n\nActuación de los Labradores de Valleseco\n\n\n\nMerienda popular\n\n\n21:00 h\nVerbena con Grupo Arena y Línea DJ con DJ Chechu
URL:https://calendarioeventos.com/en/evento/bienvenida-a-la-navidad-lanzarote/
LOCATION:Lanzarote\, 35340 Las Palmas
CATEGORIES:Actividades,Eventos gratuitos,Gastronomía,Infantil,Música,Taller,Valleseco,Verbena
ATTACH;FMTTYPE=image/png:https://calendarioeventos.com/wp-content/uploads/2025/12/Screenshot-2025-12-11-at-15-29-24-Instagram.avif
END:VEVENT
END:VCALENDAR