BEGIN:VCALENDAR
VERSION:2.0
PRODID:-//Calendario de Eventos Gran Canaria - ECPv6.15.17.1//NONSGML v1.0//EN
CALSCALE:GREGORIAN
METHOD:PUBLISH
X-WR-CALNAME:Calendario de Eventos Gran Canaria
X-ORIGINAL-URL:https://calendarioeventos.com/en
X-WR-CALDESC:Events for Calendario de Eventos Gran Canaria
REFRESH-INTERVAL;VALUE=DURATION:PT1H
X-Robots-Tag:noindex
X-PUBLISHED-TTL:PT1H
BEGIN:VTIMEZONE
TZID:Europe/London
BEGIN:DAYLIGHT
TZOFFSETFROM:+0000
TZOFFSETTO:+0100
TZNAME:BST
DTSTART:20250330T010000
END:DAYLIGHT
BEGIN:STANDARD
TZOFFSETFROM:+0100
TZOFFSETTO:+0000
TZNAME:GMT
DTSTART:20251026T010000
END:STANDARD
BEGIN:DAYLIGHT
TZOFFSETFROM:+0000
TZOFFSETTO:+0100
TZNAME:BST
DTSTART:20260329T010000
END:DAYLIGHT
BEGIN:STANDARD
TZOFFSETFROM:+0100
TZOFFSETTO:+0000
TZNAME:GMT
DTSTART:20261025T010000
END:STANDARD
BEGIN:DAYLIGHT
TZOFFSETFROM:+0000
TZOFFSETTO:+0100
TZNAME:BST
DTSTART:20270328T010000
END:DAYLIGHT
BEGIN:STANDARD
TZOFFSETFROM:+0100
TZOFFSETTO:+0000
TZNAME:GMT
DTSTART:20271031T010000
END:STANDARD
END:VTIMEZONE
BEGIN:VEVENT
DTSTART;TZID=Europe/London:20260225T193000
DTEND;TZID=Europe/London:20260225T213000
DTSTAMP:20260421T063332
CREATED:20260217T103749Z
LAST-MODIFIED:20260217T103749Z
UID:59709-1772047800-1772055000@calendarioeventos.com
SUMMARY:Carnaval - Agüimes 25 febrero
DESCRIPTION:Carnaval – Programa del Carnaval de Agüimes\, Gran Canaria\, del 25 de febrero: \n\n19:30 Baile de Carnaval con Murga de Musicoterapia.\nCentro de Mayores Cruce de Arinaga
URL:https://calendarioeventos.com/en/evento/carnaval-aguimes-25-febrero/
LOCATION:Centro de Mayores Cruce de Arinaga\, C. Beleten\, 15\, 35118 Cruce de Arinaga\, Las Palmas
CATEGORIES:Agüimes,Carnaval,Danza,Entretenimiento,Eventos gratuitos,Música,Mayores
ATTACH;FMTTYPE=image/jpeg:https://calendarioeventos.com/wp-content/uploads/2026/02/AF_PROGRAMA-CARNAVAL-2026_DIGITAL-1-1083x1536-1.avif
END:VEVENT
END:VCALENDAR