BEGIN:VCALENDAR
VERSION:2.0
PRODID:-//Calendario de Eventos Gran Canaria - ECPv6.15.17.1//NONSGML v1.0//EN
CALSCALE:GREGORIAN
METHOD:PUBLISH
X-WR-CALNAME:Calendario de Eventos Gran Canaria
X-ORIGINAL-URL:https://calendarioeventos.com/en
X-WR-CALDESC:Events for Calendario de Eventos Gran Canaria
REFRESH-INTERVAL;VALUE=DURATION:PT1H
X-Robots-Tag:noindex
X-PUBLISHED-TTL:PT1H
BEGIN:VTIMEZONE
TZID:Europe/London
BEGIN:DAYLIGHT
TZOFFSETFROM:+0000
TZOFFSETTO:+0100
TZNAME:BST
DTSTART:20250330T010000
END:DAYLIGHT
BEGIN:STANDARD
TZOFFSETFROM:+0100
TZOFFSETTO:+0000
TZNAME:GMT
DTSTART:20251026T010000
END:STANDARD
BEGIN:DAYLIGHT
TZOFFSETFROM:+0000
TZOFFSETTO:+0100
TZNAME:BST
DTSTART:20260329T010000
END:DAYLIGHT
BEGIN:STANDARD
TZOFFSETFROM:+0100
TZOFFSETTO:+0000
TZNAME:GMT
DTSTART:20261025T010000
END:STANDARD
BEGIN:DAYLIGHT
TZOFFSETFROM:+0000
TZOFFSETTO:+0100
TZNAME:BST
DTSTART:20270328T010000
END:DAYLIGHT
BEGIN:STANDARD
TZOFFSETFROM:+0100
TZOFFSETTO:+0000
TZNAME:GMT
DTSTART:20271031T010000
END:STANDARD
END:VTIMEZONE
BEGIN:VEVENT
DTSTART;TZID=Europe/London:20260227T210000
DTEND;TZID=Europe/London:20260227T233000
DTSTAMP:20260420T213108
CREATED:20260216T112457Z
LAST-MODIFIED:20260216T112457Z
UID:59419-1772226000-1772235000@calendarioeventos.com
SUMMARY:Carnaval - Baile de Piñatas Pino Santo Bajo
DESCRIPTION:Carnaval – Baile de Piñatas de Pino Santo Bajo\, Santa Brígida\, Gran Canaria\, el 27 de febrero: \n\n\nEl viernes 27 de febrero\, a las 21:00 horas\, Pino Santo Bajo acogerá el tradicional Baile de Piñatas\, una celebración carnavalesca de antaño que recupera el espíritu de convivencia y diversión vecinal. \nLa Asociación de Vecinos Las Haciendas anuncia esta cita\, organizada por la Agrupación Folclórica La Zarzalera\, que invita a vecinos y vecinas a reunirse en torno a la música y la tradición. \nLa velada contará con las actuaciones de los grupos folclóricos Las Goteras y La Zarzalera\, así como del solista Yoni\, garantizando un ambiente festivo y familiar para el disfrute de todas las personas asistentes.
URL:https://calendarioeventos.com/en/evento/carnaval-baile-de-pinatas-pino-santo-bajo/
LOCATION:Pino Santo Bajo\, 35309\, Las Palmas
CATEGORIES:Carnaval,Danza,Entretenimiento,Eventos gratuitos,Música,Santa Brígida
ATTACH;FMTTYPE=image/png:https://calendarioeventos.com/wp-content/uploads/2026/02/Pinata.avif
END:VEVENT
END:VCALENDAR