BEGIN:VCALENDAR
VERSION:2.0
PRODID:-//Calendario de Eventos Gran Canaria - ECPv6.15.17.1//NONSGML v1.0//EN
CALSCALE:GREGORIAN
METHOD:PUBLISH
X-WR-CALNAME:Calendario de Eventos Gran Canaria
X-ORIGINAL-URL:https://calendarioeventos.com/en
X-WR-CALDESC:Events for Calendario de Eventos Gran Canaria
REFRESH-INTERVAL;VALUE=DURATION:PT1H
X-Robots-Tag:noindex
X-PUBLISHED-TTL:PT1H
BEGIN:VTIMEZONE
TZID:Europe/London
BEGIN:DAYLIGHT
TZOFFSETFROM:+0000
TZOFFSETTO:+0100
TZNAME:BST
DTSTART:20250330T010000
END:DAYLIGHT
BEGIN:STANDARD
TZOFFSETFROM:+0100
TZOFFSETTO:+0000
TZNAME:GMT
DTSTART:20251026T010000
END:STANDARD
BEGIN:DAYLIGHT
TZOFFSETFROM:+0000
TZOFFSETTO:+0100
TZNAME:BST
DTSTART:20260329T010000
END:DAYLIGHT
BEGIN:STANDARD
TZOFFSETFROM:+0100
TZOFFSETTO:+0000
TZNAME:GMT
DTSTART:20261025T010000
END:STANDARD
BEGIN:DAYLIGHT
TZOFFSETFROM:+0000
TZOFFSETTO:+0100
TZNAME:BST
DTSTART:20270328T010000
END:DAYLIGHT
BEGIN:STANDARD
TZOFFSETFROM:+0100
TZOFFSETTO:+0000
TZNAME:GMT
DTSTART:20271031T010000
END:STANDARD
END:VTIMEZONE
BEGIN:VEVENT
DTSTART;TZID=Europe/London:20260217T100000
DTEND;TZID=Europe/London:20260217T210000
DTSTAMP:20260425T010304
CREATED:20260210T130458Z
LAST-MODIFIED:20260210T130519Z
UID:58270-1771322400-1771362000@calendarioeventos.com
SUMMARY:Carnaval - Cabalgata Infantil Arucas
DESCRIPTION:Carnaval – Cabalgata Infantil del Carnaval de Arucas\, Gran Canaria\, el 17 de febrero. \nLa programación del Carnaval 2026 contempla más de cuarenta actos entre los que destacan el Carnaval de Día\, el Memorial Tomás Pérez González y la Tercera Edición del Concurso Drag Queen. \nArucas se prepara ya para dar cabida a héroes y heroínas\, a personajes épicos\, aventureros y aventureras que inspirarán la decoración y los disfraces del Carnaval 2026. Un programa cargado de sorpresas\, música y talleres para el disfrute de mayores y pequeños.
URL:https://calendarioeventos.com/en/evento/carnaval-cabalgata-infantil-arucas/
LOCATION:Arucas
CATEGORIES:Arucas,Carnaval,Entretenimiento,Eventos gratuitos,Infantil,Música
ATTACH;FMTTYPE=image/jpeg:https://calendarioeventos.com/wp-content/uploads/2026/02/IMG_7367-683x1024-1.avif
END:VEVENT
END:VCALENDAR