BEGIN:VCALENDAR
VERSION:2.0
PRODID:-//Calendario de Eventos Gran Canaria - ECPv6.15.17.1//NONSGML v1.0//EN
CALSCALE:GREGORIAN
METHOD:PUBLISH
X-WR-CALNAME:Calendario de Eventos Gran Canaria
X-ORIGINAL-URL:https://calendarioeventos.com/en
X-WR-CALDESC:Events for Calendario de Eventos Gran Canaria
REFRESH-INTERVAL;VALUE=DURATION:PT1H
X-Robots-Tag:noindex
X-PUBLISHED-TTL:PT1H
BEGIN:VTIMEZONE
TZID:Europe/London
BEGIN:DAYLIGHT
TZOFFSETFROM:+0000
TZOFFSETTO:+0100
TZNAME:BST
DTSTART:20250330T010000
END:DAYLIGHT
BEGIN:STANDARD
TZOFFSETFROM:+0100
TZOFFSETTO:+0000
TZNAME:GMT
DTSTART:20251026T010000
END:STANDARD
BEGIN:DAYLIGHT
TZOFFSETFROM:+0000
TZOFFSETTO:+0100
TZNAME:BST
DTSTART:20260329T010000
END:DAYLIGHT
BEGIN:STANDARD
TZOFFSETFROM:+0100
TZOFFSETTO:+0000
TZNAME:GMT
DTSTART:20261025T010000
END:STANDARD
BEGIN:DAYLIGHT
TZOFFSETFROM:+0000
TZOFFSETTO:+0100
TZNAME:BST
DTSTART:20270328T010000
END:DAYLIGHT
BEGIN:STANDARD
TZOFFSETFROM:+0100
TZOFFSETTO:+0000
TZNAME:GMT
DTSTART:20271031T010000
END:STANDARD
END:VTIMEZONE
BEGIN:VEVENT
DTSTART;TZID=Europe/London:20260314T120000
DTEND;TZID=Europe/London:20260314T140000
DTSTAMP:20260423T114037
CREATED:20260303T100439Z
LAST-MODIFIED:20260303T100511Z
UID:63876-1773489600-1773496800@calendarioeventos.com
SUMMARY:Carnaval — «Cabalgata Infantil»
DESCRIPTION:Carnaval — Cabalgata Infantil en Maspalomas\, San Bartolomé de Tirajana\, Gran Canaria. \nLos niños y niñas son los protagonistas de este gran desfile diurno. Carrozas\, comparsas y mucha diversión recorren las calles de Maspalomas en una cabalgata adaptada para el disfrute de los menores y sus familias.
URL:https://calendarioeventos.com/en/evento/carnaval-cabalgata-infantil/
LOCATION:Sholeo Lodges Maspalomas\, Av. de Gran Canaria\, 24\, 35100 Maspalomas\, Las Palmas
CATEGORIES:Carnaval,Entretenimiento,Eventos gratuitos,Infantil,Música,San Bartolomé de Tirajana
ATTACH;FMTTYPE=image/jpeg:https://calendarioeventos.com/wp-content/uploads/2026/03/IMG_9445-1152x1536-KIlUpz.avif
END:VEVENT
END:VCALENDAR