BEGIN:VCALENDAR
VERSION:2.0
PRODID:-//Calendario de Eventos Gran Canaria - ECPv6.15.17.1//NONSGML v1.0//EN
CALSCALE:GREGORIAN
METHOD:PUBLISH
X-WR-CALNAME:Calendario de Eventos Gran Canaria
X-ORIGINAL-URL:https://calendarioeventos.com/en
X-WR-CALDESC:Events for Calendario de Eventos Gran Canaria
REFRESH-INTERVAL;VALUE=DURATION:PT1H
X-Robots-Tag:noindex
X-PUBLISHED-TTL:PT1H
BEGIN:VTIMEZONE
TZID:Europe/London
BEGIN:DAYLIGHT
TZOFFSETFROM:+0000
TZOFFSETTO:+0100
TZNAME:BST
DTSTART:20250330T010000
END:DAYLIGHT
BEGIN:STANDARD
TZOFFSETFROM:+0100
TZOFFSETTO:+0000
TZNAME:GMT
DTSTART:20251026T010000
END:STANDARD
BEGIN:DAYLIGHT
TZOFFSETFROM:+0000
TZOFFSETTO:+0100
TZNAME:BST
DTSTART:20260329T010000
END:DAYLIGHT
BEGIN:STANDARD
TZOFFSETFROM:+0100
TZOFFSETTO:+0000
TZNAME:GMT
DTSTART:20261025T010000
END:STANDARD
BEGIN:DAYLIGHT
TZOFFSETFROM:+0000
TZOFFSETTO:+0100
TZNAME:BST
DTSTART:20270328T010000
END:DAYLIGHT
BEGIN:STANDARD
TZOFFSETFROM:+0100
TZOFFSETTO:+0000
TZNAME:GMT
DTSTART:20271031T010000
END:STANDARD
END:VTIMEZONE
BEGIN:VEVENT
DTSTART;TZID=Europe/London:20260307T123000
DTEND;TZID=Europe/London:20260307T200000
DTSTAMP:20260421T011436
CREATED:20260223T194329Z
LAST-MODIFIED:20260223T194331Z
UID:61379-1772886600-1772913600@calendarioeventos.com
SUMMARY:Carnaval — «Carnaval de Guía 2026» 7 marzo
DESCRIPTION:Carnaval — Programa del Carnaval de Guía 2026\, Gran Canaria\, del 7 de marzo: \nEstas son las citas previstas para esta edición del Carnaval de Guía inspirada en ‘Los Años 80’. ¡Apunta las fechas! \n12:30h – Gran Cabalgata del Carnaval – Salida desde Lomo Guillén hasta la Plaza Grande. \n14:00h – Carnaval en familia con Aseres\, Furia Jóven\, Neo Pinto\, Grupo Extra\, Leyenda Joven\, Elegua\, Aythamy Dj\, en la Plaza Grande. \n#GuíaDeGranCanaria #Festejos #Carnaval #Carnaval2026
URL:https://calendarioeventos.com/en/evento/carnaval-carnaval-de-guia-2026-7-marzo/
LOCATION:Plaza Grande\, 35450 Guía\, Las Palmas
CATEGORIES:Carnaval,Entretenimiento,Eventos gratuitos,Fiesta,Guía,Música
ATTACH;FMTTYPE=image/jpeg:https://calendarioeventos.com/wp-content/uploads/2026/02/carnaval-carnaval-de-gu-a-2026-7-marzo-1771875808106.avif
END:VEVENT
END:VCALENDAR