BEGIN:VCALENDAR
VERSION:2.0
PRODID:-//Calendario de Eventos Gran Canaria - ECPv6.15.17.1//NONSGML v1.0//EN
CALSCALE:GREGORIAN
METHOD:PUBLISH
X-WR-CALNAME:Calendario de Eventos Gran Canaria
X-ORIGINAL-URL:https://calendarioeventos.com/en
X-WR-CALDESC:Events for Calendario de Eventos Gran Canaria
REFRESH-INTERVAL;VALUE=DURATION:PT1H
X-Robots-Tag:noindex
X-PUBLISHED-TTL:PT1H
BEGIN:VTIMEZONE
TZID:Europe/London
BEGIN:DAYLIGHT
TZOFFSETFROM:+0000
TZOFFSETTO:+0100
TZNAME:BST
DTSTART:20250330T010000
END:DAYLIGHT
BEGIN:STANDARD
TZOFFSETFROM:+0100
TZOFFSETTO:+0000
TZNAME:GMT
DTSTART:20251026T010000
END:STANDARD
BEGIN:DAYLIGHT
TZOFFSETFROM:+0000
TZOFFSETTO:+0100
TZNAME:BST
DTSTART:20260329T010000
END:DAYLIGHT
BEGIN:STANDARD
TZOFFSETFROM:+0100
TZOFFSETTO:+0000
TZNAME:GMT
DTSTART:20261025T010000
END:STANDARD
BEGIN:DAYLIGHT
TZOFFSETFROM:+0000
TZOFFSETTO:+0100
TZNAME:BST
DTSTART:20270328T010000
END:DAYLIGHT
BEGIN:STANDARD
TZOFFSETFROM:+0100
TZOFFSETTO:+0000
TZNAME:GMT
DTSTART:20271031T010000
END:STANDARD
END:VTIMEZONE
BEGIN:VEVENT
DTSTART;TZID=Europe/London:20260314T140000
DTEND;TZID=Europe/London:20260314T200000
DTSTAMP:20260423T112436
CREATED:20260303T100649Z
LAST-MODIFIED:20260308T192827Z
UID:63878-1773496800-1773518400@calendarioeventos.com
SUMMARY:Carnaval — «Carnaval Familiar Maspalomas»
DESCRIPTION:Carnaval — Carnaval Familiar en Maspalomas\, San Bartolomé de Tirajana\, Gran Canaria. \nUna jornada completa dedicada a la familia dentro del marco del Carnaval Internacional de Maspalomas 2026. Actividades\, música y talleres para todas las edades bajo la temática de El Circo\, permitiendo que grandes y pequeños compartan la alegría de las fiestas en un entorno seguro y divertido. \nSobre el escenario del CC Yumbo estarán:\n✨ Miriam Cruz\n🔥 Tonny Tun Tun\n🎤 Fulanito\n🥁 El Combo Dominicano\n🎧 DJ Toni Bob
URL:https://calendarioeventos.com/en/evento/carnaval-carnaval-familiar-maspalomas/
LOCATION:Maspalomas\, 35100 Las Palmas
CATEGORIES:Carnaval,Entretenimiento,Eventos gratuitos,Infantil,Juegos,Música,San Bartolomé de Tirajana,Taller
ATTACH;FMTTYPE=image/png:https://calendarioeventos.com/wp-content/uploads/2026/03/Screenshot-2026-03-08-at-19-27-33-Segunda-Semana-•-Instagram.avif
END:VEVENT
END:VCALENDAR