BEGIN:VCALENDAR
VERSION:2.0
PRODID:-//Calendario de Eventos Gran Canaria - ECPv6.15.17.1//NONSGML v1.0//EN
CALSCALE:GREGORIAN
METHOD:PUBLISH
X-WR-CALNAME:Calendario de Eventos Gran Canaria
X-ORIGINAL-URL:https://calendarioeventos.com/en
X-WR-CALDESC:Events for Calendario de Eventos Gran Canaria
REFRESH-INTERVAL;VALUE=DURATION:PT1H
X-Robots-Tag:noindex
X-PUBLISHED-TTL:PT1H
BEGIN:VTIMEZONE
TZID:Europe/London
BEGIN:DAYLIGHT
TZOFFSETFROM:+0000
TZOFFSETTO:+0100
TZNAME:BST
DTSTART:20250330T010000
END:DAYLIGHT
BEGIN:STANDARD
TZOFFSETFROM:+0100
TZOFFSETTO:+0000
TZNAME:GMT
DTSTART:20251026T010000
END:STANDARD
BEGIN:DAYLIGHT
TZOFFSETFROM:+0000
TZOFFSETTO:+0100
TZNAME:BST
DTSTART:20260329T010000
END:DAYLIGHT
BEGIN:STANDARD
TZOFFSETFROM:+0100
TZOFFSETTO:+0000
TZNAME:GMT
DTSTART:20261025T010000
END:STANDARD
BEGIN:DAYLIGHT
TZOFFSETFROM:+0000
TZOFFSETTO:+0100
TZNAME:BST
DTSTART:20270328T010000
END:DAYLIGHT
BEGIN:STANDARD
TZOFFSETFROM:+0100
TZOFFSETTO:+0000
TZNAME:GMT
DTSTART:20271031T010000
END:STANDARD
END:VTIMEZONE
BEGIN:VEVENT
DTSTART;TZID=Europe/London:20260314T113000
DTEND;TZID=Europe/London:20260314T140000
DTSTAMP:20260420T014901
CREATED:20260302T171804Z
LAST-MODIFIED:20260302T171832Z
UID:63740-1773487800-1773496800@calendarioeventos.com
SUMMARY:Carnaval de Familia Teror 2026
DESCRIPTION:Programa del Carnaval de Familia en Teror 2026 en la Plaza de Sintes\, Teror\, Gran Canaria. \n11:30h – Dentro de la Mini gala de Carnaval\, se celebra el concurso de disfraces familiar con tres categorías: individual\, pareja y grupo. \nEl evento incluye actuaciones del C.O. de Teror y el grupo infantil JALEOX. Los ganadores podrán obtener entradas para Holiday World. Las inscripciones se realizan mediante formulario web desde el 2 hasta el 14 de marzo. Más información en https://www.teror.es \n11:30 a 14h – Durante la mañana del Carnaval de Familia\, los más pequeños podrán disfrutar de diversos talleres y actividades infantiles temáticas en la Plaza de Sintes. Además\, se llevará a cabo una degustación tradicional de Tortillas de Carnaval para todos los asistentes.
URL:https://calendarioeventos.com/en/evento/carnaval-de-familia-teror-2026/
LOCATION:Plaza de Sintes\, 35330 Teror\, Las Palmas
CATEGORIES:Carnaval,Entretenimiento,Eventos gratuitos,Gastronomía,Infantil,Música,Taller,Teror
ATTACH;FMTTYPE=image/jpeg:https://calendarioeventos.com/wp-content/uploads/2026/03/IMG_9423-VFmiLS.avif
END:VEVENT
END:VCALENDAR