BEGIN:VCALENDAR
VERSION:2.0
PRODID:-//Calendario de Eventos Gran Canaria - ECPv6.15.17.1//NONSGML v1.0//EN
CALSCALE:GREGORIAN
METHOD:PUBLISH
X-WR-CALNAME:Calendario de Eventos Gran Canaria
X-ORIGINAL-URL:https://calendarioeventos.com/en
X-WR-CALDESC:Events for Calendario de Eventos Gran Canaria
REFRESH-INTERVAL;VALUE=DURATION:PT1H
X-Robots-Tag:noindex
X-PUBLISHED-TTL:PT1H
BEGIN:VTIMEZONE
TZID:Europe/London
BEGIN:DAYLIGHT
TZOFFSETFROM:+0000
TZOFFSETTO:+0100
TZNAME:BST
DTSTART:20250330T010000
END:DAYLIGHT
BEGIN:STANDARD
TZOFFSETFROM:+0100
TZOFFSETTO:+0000
TZNAME:GMT
DTSTART:20251026T010000
END:STANDARD
BEGIN:DAYLIGHT
TZOFFSETFROM:+0000
TZOFFSETTO:+0100
TZNAME:BST
DTSTART:20260329T010000
END:DAYLIGHT
BEGIN:STANDARD
TZOFFSETFROM:+0100
TZOFFSETTO:+0000
TZNAME:GMT
DTSTART:20261025T010000
END:STANDARD
BEGIN:DAYLIGHT
TZOFFSETFROM:+0000
TZOFFSETTO:+0100
TZNAME:BST
DTSTART:20270328T010000
END:DAYLIGHT
BEGIN:STANDARD
TZOFFSETFROM:+0100
TZOFFSETTO:+0000
TZNAME:GMT
DTSTART:20271031T010000
END:STANDARD
END:VTIMEZONE
BEGIN:VEVENT
DTSTART;TZID=Europe/London:20260301T190000
DTEND;TZID=Europe/London:20260301T230000
DTSTAMP:20260421T041829
CREATED:20260128T162826Z
LAST-MODIFIED:20260128T162826Z
UID:54498-1772391600-1772406000@calendarioeventos.com
SUMMARY:Carnaval - Entierro de la Sardina
DESCRIPTION:Carnaval – Entierro de la Sardina del Carnaval de Las Palmas de Gran Canaria desde el Club Natación Metropole al Paseo de Las Canteras. \nLa fiesta se clausura con los actos que giran en torno al ‘Entierro de la Sardina’\, con una cabalgata final teñida del negro que visten viudas descaradas y plañideras escandalosas. Ellas\, la corte y las autoridades y el mundo del Carnaval lloran la muerte del pez y lo acompañan hasta la playa de Las Canteras\, punto en el que se quema dando por finalizada la edición de la fiesta. \nRecorrido: Club Natación Metropole > c/ Gran Canaria (Paseo de Las Canteras
URL:https://calendarioeventos.com/en/evento/carnaval-entierro-de-la-sardina/
LOCATION:Club Natación Metropole\, C/ Poeta Alonso Quesada\, S/N\, 35005 Las Palmas de Gran Canaria\, Las Palmas
CATEGORIES:Carnaval,Entretenimiento,Eventos gratuitos,Las Palmas de GC,Música
ATTACH;FMTTYPE=image/png:https://calendarioeventos.com/wp-content/uploads/2026/01/Screenshot-2026-01-03-at-15-43-35-Instagram.avif
END:VEVENT
END:VCALENDAR