BEGIN:VCALENDAR
VERSION:2.0
PRODID:-//Calendario de Eventos Gran Canaria - ECPv6.15.17.1//NONSGML v1.0//EN
CALSCALE:GREGORIAN
METHOD:PUBLISH
X-WR-CALNAME:Calendario de Eventos Gran Canaria
X-ORIGINAL-URL:https://calendarioeventos.com/en
X-WR-CALDESC:Events for Calendario de Eventos Gran Canaria
REFRESH-INTERVAL;VALUE=DURATION:PT1H
X-Robots-Tag:noindex
X-PUBLISHED-TTL:PT1H
BEGIN:VTIMEZONE
TZID:Europe/London
BEGIN:DAYLIGHT
TZOFFSETFROM:+0000
TZOFFSETTO:+0100
TZNAME:BST
DTSTART:20250330T010000
END:DAYLIGHT
BEGIN:STANDARD
TZOFFSETFROM:+0100
TZOFFSETTO:+0000
TZNAME:GMT
DTSTART:20251026T010000
END:STANDARD
BEGIN:DAYLIGHT
TZOFFSETFROM:+0000
TZOFFSETTO:+0100
TZNAME:BST
DTSTART:20260329T010000
END:DAYLIGHT
BEGIN:STANDARD
TZOFFSETFROM:+0100
TZOFFSETTO:+0000
TZNAME:GMT
DTSTART:20261025T010000
END:STANDARD
BEGIN:DAYLIGHT
TZOFFSETFROM:+0000
TZOFFSETTO:+0100
TZNAME:BST
DTSTART:20270328T010000
END:DAYLIGHT
BEGIN:STANDARD
TZOFFSETFROM:+0100
TZOFFSETTO:+0000
TZNAME:GMT
DTSTART:20271031T010000
END:STANDARD
END:VTIMEZONE
BEGIN:VEVENT
DTSTART;TZID=Europe/London:20260314T180000
DTEND;TZID=Europe/London:20260314T210000
DTSTAMP:20260423T111648
CREATED:20260310T200349Z
LAST-MODIFIED:20260310T200350Z
UID:65433-1773511200-1773522000@calendarioeventos.com
SUMMARY:Carnaval — «Gran Cabalgata de Carnaval La Aldea»
DESCRIPTION:Carnaval — Gran Cabalgata de Carnaval desde el Almacén de Los Picos\, La Aldea de San Nicolás\, Gran Canaria. \nLa celebración continúa el sábado 14 de marzo con la Gran Cabalgata de Carnaval. La salida tendrá lugar a las 18:00 h desde el Almacén de Los Picos. \nCarrozas\, DJ y animaciones recorrerán las calles del municipio para ofrecer una tarde llena de diversión y música para todos los asistentes al Carnaval de La Aldea de San Nicolás.
URL:https://calendarioeventos.com/en/evento/carnaval-gran-cabalgata-de-carnaval-la-aldea/
LOCATION:La Aldea de San Nicolás\, Las Palmas
CATEGORIES:Carnaval,Entretenimiento,Eventos gratuitos,La Aldea,Música
ATTACH;FMTTYPE=image/jpeg:https://calendarioeventos.com/wp-content/uploads/2026/03/carnaval-gran-cabalgata-de-carnaval-la-aldea-1773173027506.avif
END:VEVENT
END:VCALENDAR