BEGIN:VCALENDAR
VERSION:2.0
PRODID:-//Calendario de Eventos Gran Canaria - ECPv6.15.17.1//NONSGML v1.0//EN
CALSCALE:GREGORIAN
METHOD:PUBLISH
X-WR-CALNAME:Calendario de Eventos Gran Canaria
X-ORIGINAL-URL:https://calendarioeventos.com/en
X-WR-CALDESC:Events for Calendario de Eventos Gran Canaria
REFRESH-INTERVAL;VALUE=DURATION:PT1H
X-Robots-Tag:noindex
X-PUBLISHED-TTL:PT1H
BEGIN:VTIMEZONE
TZID:Europe/London
BEGIN:DAYLIGHT
TZOFFSETFROM:+0000
TZOFFSETTO:+0100
TZNAME:BST
DTSTART:20250330T010000
END:DAYLIGHT
BEGIN:STANDARD
TZOFFSETFROM:+0100
TZOFFSETTO:+0000
TZNAME:GMT
DTSTART:20251026T010000
END:STANDARD
BEGIN:DAYLIGHT
TZOFFSETFROM:+0000
TZOFFSETTO:+0100
TZNAME:BST
DTSTART:20260329T010000
END:DAYLIGHT
BEGIN:STANDARD
TZOFFSETFROM:+0100
TZOFFSETTO:+0000
TZNAME:GMT
DTSTART:20261025T010000
END:STANDARD
BEGIN:DAYLIGHT
TZOFFSETFROM:+0000
TZOFFSETTO:+0100
TZNAME:BST
DTSTART:20270328T010000
END:DAYLIGHT
BEGIN:STANDARD
TZOFFSETFROM:+0100
TZOFFSETTO:+0000
TZNAME:GMT
DTSTART:20271031T010000
END:STANDARD
END:VTIMEZONE
BEGIN:VEVENT
DTSTART;TZID=Europe/London:20260307T110000
DTEND;TZID=Europe/London:20260307T230000
DTSTAMP:20260420T234332
CREATED:20260303T151107Z
LAST-MODIFIED:20260303T151136Z
UID:64103-1772881200-1772924400@calendarioeventos.com
SUMMARY:Carnaval — «III Carnaval de Día y Tradicional de Carrizal»
DESCRIPTION:III Carnaval de Día y Tradicional de Carrizal en la Plaza del Buen Suceso de Carrizal\, Ingenio\, Gran Canaria. \nEl Carnaval de Día y Tradicional celebra su tercera edición en la Villa de Ingenio\, consolidándose como un espacio de tradición\, música y convivencia en El Carrizal. \nLa jornada festiva del sábado 7 de marzo de 2026 ofrece una variada programación diseñada para todos los públicos.  \nA las 11:00h dará comienzo el Carnaval Infantil con talleres creativos y castillos hinchables.A partir de las 12:00h y hasta las 14:15h\, el ambiente carnavalero tomará las calles con las actuaciones de las murgas Los Legañositos\, Los Trapasitos\, Las Crazy Trotas\, Las Legañosas\, Los Bambones\, Los Legañosos y la Chirigota Los Tocapelotas. La música en directo será protagonista durante toda la tarde con DJ Paco Sánchez\, el Grupo Acuarela\, el Grupo De Belingo y la banda Maldita EGB. A las 17:00h\, se llevará a cabo La Metralla de Julito\, una degustación de tortillas de carnaval organizada por la AF Guayadeque. Además\, se celebrará el concurso de disfraces con premios para las categorías de adulto e infantil\, premiando la originalidad y la simpatía de los participantes.
URL:https://calendarioeventos.com/en/evento/carnaval-iii-carnaval-de-dia-y-tradicional-de-carrizal/
LOCATION:Parque El Buen Suceso\, Pl. el Buen Suceso\, 20\, 35240 Carrizal\, Las Palmas
CATEGORIES:Carnaval,Entretenimiento,Eventos gratuitos,Humor,Infantil,Ingenio,Juegos,Música,Taller
ATTACH;FMTTYPE=image/jpeg:https://calendarioeventos.com/wp-content/uploads/2026/03/carnaval-iii-carnaval-de-d-a-y-tradicional-de-c-1772550638254.avif
END:VEVENT
END:VCALENDAR