BEGIN:VCALENDAR
VERSION:2.0
PRODID:-//Calendario de Eventos Gran Canaria - ECPv6.15.17.1//NONSGML v1.0//EN
CALSCALE:GREGORIAN
METHOD:PUBLISH
X-WR-CALNAME:Calendario de Eventos Gran Canaria
X-ORIGINAL-URL:https://calendarioeventos.com/en
X-WR-CALDESC:Events for Calendario de Eventos Gran Canaria
REFRESH-INTERVAL;VALUE=DURATION:PT1H
X-Robots-Tag:noindex
X-PUBLISHED-TTL:PT1H
BEGIN:VTIMEZONE
TZID:Europe/London
BEGIN:DAYLIGHT
TZOFFSETFROM:+0000
TZOFFSETTO:+0100
TZNAME:BST
DTSTART:20250330T010000
END:DAYLIGHT
BEGIN:STANDARD
TZOFFSETFROM:+0100
TZOFFSETTO:+0000
TZNAME:GMT
DTSTART:20251026T010000
END:STANDARD
BEGIN:DAYLIGHT
TZOFFSETFROM:+0000
TZOFFSETTO:+0100
TZNAME:BST
DTSTART:20260329T010000
END:DAYLIGHT
BEGIN:STANDARD
TZOFFSETFROM:+0100
TZOFFSETTO:+0000
TZNAME:GMT
DTSTART:20261025T010000
END:STANDARD
BEGIN:DAYLIGHT
TZOFFSETFROM:+0000
TZOFFSETTO:+0100
TZNAME:BST
DTSTART:20270328T010000
END:DAYLIGHT
BEGIN:STANDARD
TZOFFSETFROM:+0100
TZOFFSETTO:+0000
TZNAME:GMT
DTSTART:20271031T010000
END:STANDARD
END:VTIMEZONE
BEGIN:VEVENT
DTSTART;TZID=Europe/London:20260227T190000
DTEND;TZID=Europe/London:20260227T200000
DTSTAMP:20260421T105847
CREATED:20260216T130741Z
LAST-MODIFIED:20260227T104737Z
UID:59463-1772218800-1772222400@calendarioeventos.com
SUMMARY:Carnaval - La Chorimurga "Hombres del futuro"
DESCRIPTION:Carnaval – Actuación de La Chorimurga «Hombres del futuro» en el Convento de las Dominicas\, Teror\, Gran Canaria. \n\nLa Chorimurga de Teror volverá a actuar el 27 de febrero en el Convento de las Dominicas de Teror con su nuevo espectáculo »Los hombres del futuro»\, animando los Carnavales de 2026 con su gran sentido del humor. Como es habitual en La Chorimurga\, el nuevo espectáculo sorprende por su puesta en escena y sobre todo por su carácter crítico. En esta ocasión ‘Los hombres del futuro’ se encuentran en un mundo colapsado\, en peligro\, al que  «hay que meterle mano pues los cambios son precisos para grandes males siempre hay grandes remedios»\, como dice el estribillo de una de sus canciones. \n\n 
URL:https://calendarioeventos.com/en/evento/carnaval-la-chorimurga-hombres-del-futuro/
LOCATION:Auditorio de Teror\, Plaza de Sintes\, s/n\, 35330 Teror\, Las Palmas
CATEGORIES:Carnaval,Entretenimiento,Eventos gratuitos,Humor,Música,Teror
ATTACH;FMTTYPE=image/jpeg:https://calendarioeventos.com/wp-content/uploads/2026/02/641319157_1335656628593744_2755962176685654319_n.avif
END:VEVENT
END:VCALENDAR