BEGIN:VCALENDAR
VERSION:2.0
PRODID:-//Calendario de Eventos Gran Canaria - ECPv6.15.17.1//NONSGML v1.0//EN
CALSCALE:GREGORIAN
METHOD:PUBLISH
X-WR-CALNAME:Calendario de Eventos Gran Canaria
X-ORIGINAL-URL:https://calendarioeventos.com/en
X-WR-CALDESC:Events for Calendario de Eventos Gran Canaria
REFRESH-INTERVAL;VALUE=DURATION:PT1H
X-Robots-Tag:noindex
X-PUBLISHED-TTL:PT1H
BEGIN:VTIMEZONE
TZID:Europe/London
BEGIN:DAYLIGHT
TZOFFSETFROM:+0000
TZOFFSETTO:+0100
TZNAME:BST
DTSTART:20250330T010000
END:DAYLIGHT
BEGIN:STANDARD
TZOFFSETFROM:+0100
TZOFFSETTO:+0000
TZNAME:GMT
DTSTART:20251026T010000
END:STANDARD
BEGIN:DAYLIGHT
TZOFFSETFROM:+0000
TZOFFSETTO:+0100
TZNAME:BST
DTSTART:20260329T010000
END:DAYLIGHT
BEGIN:STANDARD
TZOFFSETFROM:+0100
TZOFFSETTO:+0000
TZNAME:GMT
DTSTART:20261025T010000
END:STANDARD
BEGIN:DAYLIGHT
TZOFFSETFROM:+0000
TZOFFSETTO:+0100
TZNAME:BST
DTSTART:20270328T010000
END:DAYLIGHT
BEGIN:STANDARD
TZOFFSETFROM:+0100
TZOFFSETTO:+0000
TZNAME:GMT
DTSTART:20271031T010000
END:STANDARD
END:VTIMEZONE
BEGIN:VEVENT
DTSTART;TZID=Europe/London:20260220T100000
DTEND;TZID=Europe/London:20260220T223000
DTSTAMP:20260425T010314
CREATED:20260210T134319Z
LAST-MODIFIED:20260215T170410Z
UID:58317-1771581600-1771626600@calendarioeventos.com
SUMMARY:Carnaval - Moya 20 febrero
DESCRIPTION:Carnaval – Programa del Carnaval de Moya 2026\, Gran Canaria\, del 20 de febrero: \n\n10.00 h. Pasacalles de Carnaval Infantil con la participación del alumnado de los colegios del municipio. Calles del casco.\nA partir de las 20.00 h. Viernes Joven Especial Carnaval. Picoteo + Gala Drag. Para jóvenes de entre 12 y 30 años. Actividad gratuita. Plazas limitadas. Inscripciones en la APP Moya Espacio Joven. Espacio Joven Villa de Moya.
URL:https://calendarioeventos.com/en/evento/carnaval-moya-20-febrero/
LOCATION:Moya
CATEGORIES:Carnaval,Entretenimiento,Eventos gratuitos,Infantil,Jóvenes,Moya
ATTACH;FMTTYPE=image/png:https://calendarioeventos.com/wp-content/uploads/2026/02/Screenshot-2026-02-15-at-17-03-23-1-Instagram.avif
END:VEVENT
END:VCALENDAR