BEGIN:VCALENDAR
VERSION:2.0
PRODID:-//Calendario de Eventos Gran Canaria - ECPv6.15.17.1//NONSGML v1.0//EN
CALSCALE:GREGORIAN
METHOD:PUBLISH
X-WR-CALNAME:Calendario de Eventos Gran Canaria
X-ORIGINAL-URL:https://calendarioeventos.com/en
X-WR-CALDESC:Events for Calendario de Eventos Gran Canaria
REFRESH-INTERVAL;VALUE=DURATION:PT1H
X-Robots-Tag:noindex
X-PUBLISHED-TTL:PT1H
BEGIN:VTIMEZONE
TZID:Europe/London
BEGIN:DAYLIGHT
TZOFFSETFROM:+0000
TZOFFSETTO:+0100
TZNAME:BST
DTSTART:20250330T010000
END:DAYLIGHT
BEGIN:STANDARD
TZOFFSETFROM:+0100
TZOFFSETTO:+0000
TZNAME:GMT
DTSTART:20251026T010000
END:STANDARD
BEGIN:DAYLIGHT
TZOFFSETFROM:+0000
TZOFFSETTO:+0100
TZNAME:BST
DTSTART:20260329T010000
END:DAYLIGHT
BEGIN:STANDARD
TZOFFSETFROM:+0100
TZOFFSETTO:+0000
TZNAME:GMT
DTSTART:20261025T010000
END:STANDARD
BEGIN:DAYLIGHT
TZOFFSETFROM:+0000
TZOFFSETTO:+0100
TZNAME:BST
DTSTART:20270328T010000
END:DAYLIGHT
BEGIN:STANDARD
TZOFFSETFROM:+0100
TZOFFSETTO:+0000
TZNAME:GMT
DTSTART:20271031T010000
END:STANDARD
END:VTIMEZONE
BEGIN:VEVENT
DTSTART;TZID=Europe/London:20260226T180000
DTEND;TZID=Europe/London:20260226T233000
DTSTAMP:20260421T023443
CREATED:20260217T131207Z
LAST-MODIFIED:20260217T132009Z
UID:10014013-1772128800-1772148600@calendarioeventos.com
SUMMARY:Carnaval Municipal Las Filipinas
DESCRIPTION:Carnaval Municipal en La Plaza de Las Filipinas 2026\, Mogán\, Gran Canaria \n\n26 febrero:\n\n18h – Talleres de Carnaval – «Decora tu barrio».\n\n\n28 febrero:\n\n18h – Pasarela de disfraces\, animación infantil y talleres de carnaval. En el transcurso de la misma se repartirán tortillas y chocolate.\n22h – Baile de mascaritas con el Dj Johan Partymax y el Grupo Los Peques.
URL:https://calendarioeventos.com/en/evento/carnaval-municipal-las-filipinas/2026-02-26/
LOCATION:Las Filipinas\, 35128 Las Palmas
CATEGORIES:Carnaval,Danza,Entretenimiento,Eventos gratuitos,Infantil,Música,Mogán,Taller
ATTACH;FMTTYPE=image/png:https://calendarioeventos.com/wp-content/uploads/2026/02/Screenshot-2026-02-17-at-13-10-32-1-Instagram.avif
END:VEVENT
END:VCALENDAR