BEGIN:VCALENDAR
VERSION:2.0
PRODID:-//Calendario de Eventos Gran Canaria - ECPv6.15.17.1//NONSGML v1.0//EN
CALSCALE:GREGORIAN
METHOD:PUBLISH
X-WR-CALNAME:Calendario de Eventos Gran Canaria
X-ORIGINAL-URL:https://calendarioeventos.com/en
X-WR-CALDESC:Events for Calendario de Eventos Gran Canaria
REFRESH-INTERVAL;VALUE=DURATION:PT1H
X-Robots-Tag:noindex
X-PUBLISHED-TTL:PT1H
BEGIN:VTIMEZONE
TZID:Europe/London
BEGIN:DAYLIGHT
TZOFFSETFROM:+0000
TZOFFSETTO:+0100
TZNAME:BST
DTSTART:20250330T010000
END:DAYLIGHT
BEGIN:STANDARD
TZOFFSETFROM:+0100
TZOFFSETTO:+0000
TZNAME:GMT
DTSTART:20251026T010000
END:STANDARD
BEGIN:DAYLIGHT
TZOFFSETFROM:+0000
TZOFFSETTO:+0100
TZNAME:BST
DTSTART:20260329T010000
END:DAYLIGHT
BEGIN:STANDARD
TZOFFSETFROM:+0100
TZOFFSETTO:+0000
TZNAME:GMT
DTSTART:20261025T010000
END:STANDARD
BEGIN:DAYLIGHT
TZOFFSETFROM:+0000
TZOFFSETTO:+0100
TZNAME:BST
DTSTART:20270328T010000
END:DAYLIGHT
BEGIN:STANDARD
TZOFFSETFROM:+0100
TZOFFSETTO:+0000
TZNAME:GMT
DTSTART:20271031T010000
END:STANDARD
END:VTIMEZONE
BEGIN:VEVENT
DTSTART;TZID=Europe/London:20260305T190000
DTEND;TZID=Europe/London:20260305T233000
DTSTAMP:20260423T190841
CREATED:20260226T120545Z
LAST-MODIFIED:20260226T120546Z
UID:62354-1772737200-1772753400@calendarioeventos.com
SUMMARY:Carnaval — «Pregón del Carnaval y Noche de tapas» Vecindario
DESCRIPTION:Carnaval — Pregón del Carnaval y Noche de tapas en la Plaza de Los Algodoneros\, Santa Lucía de Tirajana\, Gran Canaria. \nEl Carnaval de Vecindario 2026 arranca con el pregón oficial a cargo de la Asociación Sociocultural Karna. La jornada incluye una Noche de Tapas y una programación musical destacada con las actuaciones de La Chirichota a las 19:30\, la Chirigota del Bizcocho a las 20:45 y un concierto de Pedro Afonso a las 22:00 horas. Además\, de 19:00 a 23:30 se podrá disfrutar de la zona gastronómica instalada en la plaza.
URL:https://calendarioeventos.com/en/evento/carnaval-pregon-del-carnaval-y-noche-de-tapas-vecindario/
LOCATION:Plaza de los Algodoneros\, Av. de Canarias\, 266\, 35110 Vecindario\, Las Palmas
CATEGORIES:Carnaval,Entretenimiento,Eventos gratuitos,Gastronomía,Humor,Música,Santa Lucía de Tirajana
ATTACH;FMTTYPE=image/jpeg:https://calendarioeventos.com/wp-content/uploads/2026/02/IMG_9152-IBdbjA.avif
END:VEVENT
END:VCALENDAR