BEGIN:VCALENDAR
VERSION:2.0
PRODID:-//Calendario de Eventos Gran Canaria - ECPv6.15.17.1//NONSGML v1.0//EN
CALSCALE:GREGORIAN
METHOD:PUBLISH
X-WR-CALNAME:Calendario de Eventos Gran Canaria
X-ORIGINAL-URL:https://calendarioeventos.com/en
X-WR-CALDESC:Events for Calendario de Eventos Gran Canaria
REFRESH-INTERVAL;VALUE=DURATION:PT1H
X-Robots-Tag:noindex
X-PUBLISHED-TTL:PT1H
BEGIN:VTIMEZONE
TZID:Europe/London
BEGIN:DAYLIGHT
TZOFFSETFROM:+0000
TZOFFSETTO:+0100
TZNAME:BST
DTSTART:20250330T010000
END:DAYLIGHT
BEGIN:STANDARD
TZOFFSETFROM:+0100
TZOFFSETTO:+0000
TZNAME:GMT
DTSTART:20251026T010000
END:STANDARD
BEGIN:DAYLIGHT
TZOFFSETFROM:+0000
TZOFFSETTO:+0100
TZNAME:BST
DTSTART:20260329T010000
END:DAYLIGHT
BEGIN:STANDARD
TZOFFSETFROM:+0100
TZOFFSETTO:+0000
TZNAME:GMT
DTSTART:20261025T010000
END:STANDARD
BEGIN:DAYLIGHT
TZOFFSETFROM:+0000
TZOFFSETTO:+0100
TZNAME:BST
DTSTART:20270328T010000
END:DAYLIGHT
BEGIN:STANDARD
TZOFFSETFROM:+0100
TZOFFSETTO:+0000
TZNAME:GMT
DTSTART:20271031T010000
END:STANDARD
END:VTIMEZONE
BEGIN:VEVENT
DTSTART;TZID=Europe/London:20260306T193000
DTEND;TZID=Europe/London:20260306T233000
DTSTAMP:20260423T173627
CREATED:20260304T210403Z
LAST-MODIFIED:20260304T210433Z
UID:64439-1772825400-1772839800@calendarioeventos.com
SUMMARY:Carnaval - «Pregón del Gran Carnaval de Telde 2026»
DESCRIPTION:Carnaval — Programa del día del Pregón del Gran Carnaval de Telde 2026\, Gran Canaria\, el 6 de marzo: \n \n19.30h. DESFILE ANUNCIADOR Desde el Parque Franchy Roca.\n \n20.00h. PREGÓN DEL CARNAVAL A CARGO DE SALVADOR SANTANA\n \n21.00h. BAILE DE PIÑATA PARRANDA LA POLVAJERA\n \n22:30h. NOCHE DE CARNAVAL KILOMBO IMPROVISADO – CREMITA DE COCO – DJ JAVI PERERA – DJ ANTONY ROBERT\n \nPlaza de San Gregorio
URL:https://calendarioeventos.com/en/evento/carnaval-pregon-del-gran-carnaval-de-telde-2026/
LOCATION:Telde\, Las Palmas
CATEGORIES:Carnaval,Danza,Entretenimiento,Música,Telde,Verbena
ATTACH;FMTTYPE=image/jpeg:https://calendarioeventos.com/wp-content/uploads/2026/03/IMG_9537-1152x1536-4h4WVW.avif
END:VEVENT
END:VCALENDAR