BEGIN:VCALENDAR
VERSION:2.0
PRODID:-//Calendario de Eventos Gran Canaria - ECPv6.15.17.1//NONSGML v1.0//EN
CALSCALE:GREGORIAN
METHOD:PUBLISH
X-WR-CALNAME:Calendario de Eventos Gran Canaria
X-ORIGINAL-URL:https://calendarioeventos.com/en
X-WR-CALDESC:Events for Calendario de Eventos Gran Canaria
REFRESH-INTERVAL;VALUE=DURATION:PT1H
X-Robots-Tag:noindex
X-PUBLISHED-TTL:PT1H
BEGIN:VTIMEZONE
TZID:Europe/London
BEGIN:DAYLIGHT
TZOFFSETFROM:+0000
TZOFFSETTO:+0100
TZNAME:BST
DTSTART:20250330T010000
END:DAYLIGHT
BEGIN:STANDARD
TZOFFSETFROM:+0100
TZOFFSETTO:+0000
TZNAME:GMT
DTSTART:20251026T010000
END:STANDARD
BEGIN:DAYLIGHT
TZOFFSETFROM:+0000
TZOFFSETTO:+0100
TZNAME:BST
DTSTART:20260329T010000
END:DAYLIGHT
BEGIN:STANDARD
TZOFFSETFROM:+0100
TZOFFSETTO:+0000
TZNAME:GMT
DTSTART:20261025T010000
END:STANDARD
BEGIN:DAYLIGHT
TZOFFSETFROM:+0000
TZOFFSETTO:+0100
TZNAME:BST
DTSTART:20270328T010000
END:DAYLIGHT
BEGIN:STANDARD
TZOFFSETFROM:+0100
TZOFFSETTO:+0000
TZNAME:GMT
DTSTART:20271031T010000
END:STANDARD
END:VTIMEZONE
BEGIN:VEVENT
DTSTART;TZID=Europe/London:20260124T213000
DTEND;TZID=Europe/London:20260124T230000
DTSTAMP:20260421T055915
CREATED:20260123T224959Z
LAST-MODIFIED:20260123T224959Z
UID:52755-1769290200-1769295600@calendarioeventos.com
SUMMARY:Carnaval - Presentación Aspirantes Trono
DESCRIPTION:Carnaval – Presentación de los Aspirantes al Trono del Carnaval de Las Palmas de Gran Canaria en los Jardines Rubió del Parque Doramas\, \n 
URL:https://calendarioeventos.com/en/evento/carnaval-presentacion-aspirantes-trono/
LOCATION:Parque Doramas\, C. León y Castillo\, 227\, 35005 Las Palmas de Gran Canaria\, Las Palmas
CATEGORIES:Carnaval,Entretenimiento,Eventos gratuitos,Las Palmas de GC,Música,Presentación
ATTACH;FMTTYPE=image/png:https://calendarioeventos.com/wp-content/uploads/2026/01/Screenshot-2026-01-03-at-15-43-35-Instagram.avif
END:VEVENT
END:VCALENDAR