BEGIN:VCALENDAR
VERSION:2.0
PRODID:-//Calendario de Eventos Gran Canaria - ECPv6.15.17.1//NONSGML v1.0//EN
CALSCALE:GREGORIAN
METHOD:PUBLISH
X-WR-CALNAME:Calendario de Eventos Gran Canaria
X-ORIGINAL-URL:https://calendarioeventos.com/en
X-WR-CALDESC:Events for Calendario de Eventos Gran Canaria
REFRESH-INTERVAL;VALUE=DURATION:PT1H
X-Robots-Tag:noindex
X-PUBLISHED-TTL:PT1H
BEGIN:VTIMEZONE
TZID:Europe/London
BEGIN:DAYLIGHT
TZOFFSETFROM:+0000
TZOFFSETTO:+0100
TZNAME:BST
DTSTART:20250330T010000
END:DAYLIGHT
BEGIN:STANDARD
TZOFFSETFROM:+0100
TZOFFSETTO:+0000
TZNAME:GMT
DTSTART:20251026T010000
END:STANDARD
BEGIN:DAYLIGHT
TZOFFSETFROM:+0000
TZOFFSETTO:+0100
TZNAME:BST
DTSTART:20260329T010000
END:DAYLIGHT
BEGIN:STANDARD
TZOFFSETFROM:+0100
TZOFFSETTO:+0000
TZNAME:GMT
DTSTART:20261025T010000
END:STANDARD
BEGIN:DAYLIGHT
TZOFFSETFROM:+0000
TZOFFSETTO:+0100
TZNAME:BST
DTSTART:20270328T010000
END:DAYLIGHT
BEGIN:STANDARD
TZOFFSETFROM:+0100
TZOFFSETTO:+0000
TZNAME:GMT
DTSTART:20271031T010000
END:STANDARD
END:VTIMEZONE
BEGIN:VEVENT
DTSTART;TZID=Europe/London:20260315T170000
DTEND;TZID=Europe/London:20260315T220000
DTSTAMP:20260421T130223
CREATED:20260226T122241Z
LAST-MODIFIED:20260226T122243Z
UID:62384-1773594000-1773612000@calendarioeventos.com
SUMMARY:Carnaval — «Tardeo Carnavalero y Entierro de la Sardina» Vecindario
DESCRIPTION:Carnaval — Tardeo Carnavalero y Entierro de la Sardina en la Plaza de San Rafael y Los Algodoneros\, Santa Lucía de Tirajana\, Gran Canaria. \nÚltimo día de fiesta que comienza con el Tardeo Carnavalero a cargo de Los Salvapantallas a las 17:00 en San Rafael. A las 18:30 partirá el Pasacalle del Entierro de la Sardina desde el Teatro Víctor Jara\, recorriendo la Avenida de Canarias hasta la Quema de la Sardina a las 19:45 en la Plaza de Los Algodoneros. La despedida final será con el grupo Nueva Línea a las 20:00 h.
URL:https://calendarioeventos.com/en/evento/carnaval-tardeo-carnavalero-y-entierro-de-la-sardina-vecindario/
LOCATION:Pl. San Rafael\, 35110 Vecindario\, Las Palmas
CATEGORIES:Carnaval,Entretenimiento,Eventos gratuitos,Música,Santa Lucía de Tirajana
ATTACH;FMTTYPE=image/jpeg:https://calendarioeventos.com/wp-content/uploads/2026/02/IMG_9168-32UZEt.avif
END:VEVENT
END:VCALENDAR