BEGIN:VCALENDAR
VERSION:2.0
PRODID:-//Calendario de Eventos Gran Canaria - ECPv6.15.17.1//NONSGML v1.0//EN
CALSCALE:GREGORIAN
METHOD:PUBLISH
X-WR-CALNAME:Calendario de Eventos Gran Canaria
X-ORIGINAL-URL:https://calendarioeventos.com/en
X-WR-CALDESC:Events for Calendario de Eventos Gran Canaria
REFRESH-INTERVAL;VALUE=DURATION:PT1H
X-Robots-Tag:noindex
X-PUBLISHED-TTL:PT1H
BEGIN:VTIMEZONE
TZID:Europe/London
BEGIN:DAYLIGHT
TZOFFSETFROM:+0000
TZOFFSETTO:+0100
TZNAME:BST
DTSTART:20250330T010000
END:DAYLIGHT
BEGIN:STANDARD
TZOFFSETFROM:+0100
TZOFFSETTO:+0000
TZNAME:GMT
DTSTART:20251026T010000
END:STANDARD
BEGIN:DAYLIGHT
TZOFFSETFROM:+0000
TZOFFSETTO:+0100
TZNAME:BST
DTSTART:20260329T010000
END:DAYLIGHT
BEGIN:STANDARD
TZOFFSETFROM:+0100
TZOFFSETTO:+0000
TZNAME:GMT
DTSTART:20261025T010000
END:STANDARD
BEGIN:DAYLIGHT
TZOFFSETFROM:+0000
TZOFFSETTO:+0100
TZNAME:BST
DTSTART:20270328T010000
END:DAYLIGHT
BEGIN:STANDARD
TZOFFSETFROM:+0100
TZOFFSETTO:+0000
TZNAME:GMT
DTSTART:20271031T010000
END:STANDARD
END:VTIMEZONE
BEGIN:VEVENT
DTSTART;TZID=Europe/London:20260306T203000
DTEND;TZID=Europe/London:20260306T223000
DTSTAMP:20260423T172602
CREATED:20260224T134038Z
LAST-MODIFIED:20260224T134432Z
UID:61711-1772829000-1772836200@calendarioeventos.com
SUMMARY:Carnaval — Trapiche
DESCRIPTION:Carnaval – Programa del Carnaval de Trapiche\, Arucas\, Gran Canaria\, del 6 de marzo: \n\n20:30 h. Encuentro de Murgas y Baile de Mascaritas.\nEdificio de Usos Múltiples.\nOrganiza: Asociación Vecinal Dácil.
URL:https://calendarioeventos.com/en/evento/carnaval-trapiche/
LOCATION:Trapiche\, 35413 Las Palmas
CATEGORIES:Arucas,Carnaval,Danza,Entretenimiento,Eventos gratuitos,Humor,Música,Municipio
ATTACH;FMTTYPE=image/jpeg:https://calendarioeventos.com/wp-content/uploads/2026/02/IMG_8810.avif
END:VEVENT
END:VCALENDAR