BEGIN:VCALENDAR
VERSION:2.0
PRODID:-//Calendario de Eventos Gran Canaria - ECPv6.15.17.1//NONSGML v1.0//EN
CALSCALE:GREGORIAN
METHOD:PUBLISH
X-WR-CALNAME:Calendario de Eventos Gran Canaria
X-ORIGINAL-URL:https://calendarioeventos.com/en
X-WR-CALDESC:Events for Calendario de Eventos Gran Canaria
REFRESH-INTERVAL;VALUE=DURATION:PT1H
X-Robots-Tag:noindex
X-PUBLISHED-TTL:PT1H
BEGIN:VTIMEZONE
TZID:Europe/London
BEGIN:DAYLIGHT
TZOFFSETFROM:+0000
TZOFFSETTO:+0100
TZNAME:BST
DTSTART:20250330T010000
END:DAYLIGHT
BEGIN:STANDARD
TZOFFSETFROM:+0100
TZOFFSETTO:+0000
TZNAME:GMT
DTSTART:20251026T010000
END:STANDARD
BEGIN:DAYLIGHT
TZOFFSETFROM:+0000
TZOFFSETTO:+0100
TZNAME:BST
DTSTART:20260329T010000
END:DAYLIGHT
BEGIN:STANDARD
TZOFFSETFROM:+0100
TZOFFSETTO:+0000
TZNAME:GMT
DTSTART:20261025T010000
END:STANDARD
BEGIN:DAYLIGHT
TZOFFSETFROM:+0000
TZOFFSETTO:+0100
TZNAME:BST
DTSTART:20270328T010000
END:DAYLIGHT
BEGIN:STANDARD
TZOFFSETFROM:+0100
TZOFFSETTO:+0000
TZNAME:GMT
DTSTART:20271031T010000
END:STANDARD
END:VTIMEZONE
BEGIN:VEVENT
DTSTART;TZID=Europe/London:20260320T203000
DTEND;TZID=Europe/London:20260320T233000
DTSTAMP:20260419T155540
CREATED:20260310T202311Z
LAST-MODIFIED:20260319T162247Z
UID:65457-1774038600-1774049400@calendarioeventos.com
SUMMARY:Carnaval — «TrasTEAndo 3»
DESCRIPTION:Carnaval — TrasTEAndo 3 en Semilla Tea\, Agaete\, Gran Canaria. \nTrasTEAndo 3. \nA las 20.30 h comenzamos con el Entrenamiento Carrera de tacones y aletas. \nA las 21.00h Sombras del Caribe y trasteo…
URL:https://calendarioeventos.com/en/evento/carnaval-trasteando-3/
LOCATION:Espacio TEA Agaete\, C. León y Castillo\, 30\, 35480 Agaete\, Las Palmas
CATEGORIES:Agaete,Carnaval,Entretenimiento,Música
ATTACH;FMTTYPE=image/jpeg:https://calendarioeventos.com/wp-content/uploads/2026/03/carnaval-trasteando-3-1773174190035.avif
END:VEVENT
END:VCALENDAR