BEGIN:VCALENDAR
VERSION:2.0
PRODID:-//Calendario de Eventos Gran Canaria - ECPv6.15.17.1//NONSGML v1.0//EN
CALSCALE:GREGORIAN
METHOD:PUBLISH
X-WR-CALNAME:Calendario de Eventos Gran Canaria
X-ORIGINAL-URL:https://calendarioeventos.com/en
X-WR-CALDESC:Events for Calendario de Eventos Gran Canaria
REFRESH-INTERVAL;VALUE=DURATION:PT1H
X-Robots-Tag:noindex
X-PUBLISHED-TTL:PT1H
BEGIN:VTIMEZONE
TZID:Europe/London
BEGIN:DAYLIGHT
TZOFFSETFROM:+0000
TZOFFSETTO:+0100
TZNAME:BST
DTSTART:20250330T010000
END:DAYLIGHT
BEGIN:STANDARD
TZOFFSETFROM:+0100
TZOFFSETTO:+0000
TZNAME:GMT
DTSTART:20251026T010000
END:STANDARD
BEGIN:DAYLIGHT
TZOFFSETFROM:+0000
TZOFFSETTO:+0100
TZNAME:BST
DTSTART:20260329T010000
END:DAYLIGHT
BEGIN:STANDARD
TZOFFSETFROM:+0100
TZOFFSETTO:+0000
TZNAME:GMT
DTSTART:20261025T010000
END:STANDARD
BEGIN:DAYLIGHT
TZOFFSETFROM:+0000
TZOFFSETTO:+0100
TZNAME:BST
DTSTART:20270328T010000
END:DAYLIGHT
BEGIN:STANDARD
TZOFFSETFROM:+0100
TZOFFSETTO:+0000
TZNAME:GMT
DTSTART:20271031T010000
END:STANDARD
END:VTIMEZONE
BEGIN:VEVENT
DTSTART;TZID=Europe/London:20260317T193000
DTEND;TZID=Europe/London:20260317T203000
DTSTAMP:20260419T142210
CREATED:20260303T170301Z
LAST-MODIFIED:20260303T170302Z
UID:64163-1773775800-1773779400@calendarioeventos.com
SUMMARY:Charla - "África" con Pepe Naranjo
DESCRIPTION:Santa Brígida acoge el próximo martes\, 17 de marzo\, a las 19:30 horas\, una nueva cita del ciclo Charlas con Identidad \, con la participación del periodista canario Pepe Naranjo \, que impartirá la charla titulada «África» en Espacio Juan Sixto Muñoz \, en La Atalaya\, Gran Canaria. \n Nacido en Telde\, Pepe Naranjo reside en Senegal desde 2011 y desarrolla su labor como periodista freelance\, especializado en África occidental. Es colaborador habitual del diario El País y ha cubierto sobre el terreno conflictos armados\, crisis sanitarias y procesos migratorios en distintos países del continente africano. Su trabajo periodístico se caracteriza por una mirada cercana y rigurosa sobre realidades habitualmente ausentes del foco informativo internacional. \n Además de su labor en medios de comunicación\, Naranjo es autor de varios libros centrados en África y su compleja realidad social\, política y humana. Su trayectoria ha sido reconocida con numerosos galardones\, entre ellos el Premio Canarias de Comunicación 2016 \, concedido por la Cadena SER. \n La charla África se enmarca en el programa Charlas con Identidad 2026 \, una iniciativa cultural impulsada por la Asociación LOZA \, que promueve espacios de reflexión y diálogo en torno a la memoria\, la identidad y el pensamiento contemporáneo desde una perspectiva canaria y global. \n Colaboran\, entre otros\, Cabildo de Gran Canaria\, el Fondo de Desarrollo de Canarias\, y el Ayuntamiento de Santa Brígida\, \n La entrada es libre hasta completar aforo.
URL:https://calendarioeventos.com/en/evento/charla-africa-con-pepe-naranjo/
LOCATION:Espacio Juan Sixto Muñoz\, C. Cura Navarro\, 1\, 35307 Sta Brígida\, Las Palmas
CATEGORIES:Actividades,Charla,Eventos gratuitos,Santa Brígida
ATTACH;FMTTYPE=image/jpeg:https://calendarioeventos.com/wp-content/uploads/2026/03/WhatsApp-Image-2026-02-20-at-20.19.59-6l4eTl.avif
END:VEVENT
END:VCALENDAR