BEGIN:VCALENDAR
VERSION:2.0
PRODID:-//Calendario de Eventos Gran Canaria - ECPv6.15.17.1//NONSGML v1.0//EN
CALSCALE:GREGORIAN
METHOD:PUBLISH
X-WR-CALNAME:Calendario de Eventos Gran Canaria
X-ORIGINAL-URL:https://calendarioeventos.com/en
X-WR-CALDESC:Events for Calendario de Eventos Gran Canaria
REFRESH-INTERVAL;VALUE=DURATION:PT1H
X-Robots-Tag:noindex
X-PUBLISHED-TTL:PT1H
BEGIN:VTIMEZONE
TZID:Europe/London
BEGIN:DAYLIGHT
TZOFFSETFROM:+0000
TZOFFSETTO:+0100
TZNAME:BST
DTSTART:20250330T010000
END:DAYLIGHT
BEGIN:STANDARD
TZOFFSETFROM:+0100
TZOFFSETTO:+0000
TZNAME:GMT
DTSTART:20251026T010000
END:STANDARD
BEGIN:DAYLIGHT
TZOFFSETFROM:+0000
TZOFFSETTO:+0100
TZNAME:BST
DTSTART:20260329T010000
END:DAYLIGHT
BEGIN:STANDARD
TZOFFSETFROM:+0100
TZOFFSETTO:+0000
TZNAME:GMT
DTSTART:20261025T010000
END:STANDARD
BEGIN:DAYLIGHT
TZOFFSETFROM:+0000
TZOFFSETTO:+0100
TZNAME:BST
DTSTART:20270328T010000
END:DAYLIGHT
BEGIN:STANDARD
TZOFFSETFROM:+0100
TZOFFSETTO:+0000
TZNAME:GMT
DTSTART:20271031T010000
END:STANDARD
END:VTIMEZONE
BEGIN:VEVENT
DTSTART;TZID=Europe/London:20260130T093000
DTEND;TZID=Europe/London:20260130T110000
DTSTAMP:20260423T182608
CREATED:20260106T175011Z
LAST-MODIFIED:20260123T110752Z
UID:50048-1769765400-1769770800@calendarioeventos.com
SUMMARY:Charla - Creative Mornings Enero
DESCRIPTION:Charla de enero de Creative Mornings en el Castillo de Mata\, Las Palmas de Gran Canaria. \nNuestro tema de enero es کورسو (cur-sú). Fue elegido por nuestra sede de Teherán\, en Irán\, e ilustrado por Hoda Ramy. \nReserva tu entradas gratuita en este enlace. \nTodos los meses\, una sede distinta de CreativeMornings elige un tema para nuestras charlas\, que se dan en ciudades alrededor del mundo. Este año\, muchos de nuestros temas del mes se darán en el idioma local de esa sede.\nEsperamos que esto le dé a cada tema uno significado más profundo y promueva conexiones más significativas con otras comunidades y culturas. \nکورسوo Kursú (se pronuncia cur-sú) es una palabra en farsi que significa “rayo de esperanza.”\nAl respecto de la importancia de esta palabra\, nuestra sede de Teherán dice lo siguiente:\n“En nuestros momentos más oscuros\, cuando todo parece perdido\, a veces queda una luz: no es una luz brillante ni muy clara\, pero allí está. Esa luz es kursú. Un pequeño destello de esperanza que resiste y no se rinde.\nKursú no es éxito ni claridad. Por el contrario\, es esa luz frágil pero imperturbable que nos ayuda a seguir adelante. Una mirada\, un recuerdo\, una palabra. Esos pequeños detalles que evitan que todo se derrumbe. Kursú es la silenciosa resistencia de quienes siguen adelante a pesar de las dificultades\, de quienes tienen fe pese a la incertidumbre. Es un mundo en donde la desesperanza muchas veces es moneda corriente\, Kursú es símbolo de rebeldía\, silenciosa pero profunda- Nos recuerda que aún la chispa más pequeña puede hacer la diferencia.” \nAhora que está a punto de comenzar un nuevo año\, pregúntese: “¿Qué cosas me dan esperanza en este momento?”\nQue esa pequeña luz siga brillando depende de cada uno de nosotros. Protejámosla y valorémosla. Pero tengamos cuidado de no ahogarla. Compartamos nuestro kursú con las personas que nos rodean. Porque el mundo necesita de todos los rayos de esperanza posibles.
URL:https://calendarioeventos.com/en/evento/charla-creative-mornings-enero/
LOCATION:Museo Castillo de Mata\, C. Domingo Guerra del Río\, 147\, 35002 Las Palmas de Gran Canaria\, Las Palmas
CATEGORIES:Actividades,Charla,Eventos gratuitos,Gastronomía,Las Palmas de GC
ATTACH;FMTTYPE=image/png:https://calendarioeventos.com/wp-content/uploads/2026/01/Host.avif
END:VEVENT
END:VCALENDAR