BEGIN:VCALENDAR
VERSION:2.0
PRODID:-//Calendario de Eventos Gran Canaria - ECPv6.15.17.1//NONSGML v1.0//EN
CALSCALE:GREGORIAN
METHOD:PUBLISH
X-WR-CALNAME:Calendario de Eventos Gran Canaria
X-ORIGINAL-URL:https://calendarioeventos.com/en
X-WR-CALDESC:Events for Calendario de Eventos Gran Canaria
REFRESH-INTERVAL;VALUE=DURATION:PT1H
X-Robots-Tag:noindex
X-PUBLISHED-TTL:PT1H
BEGIN:VTIMEZONE
TZID:Europe/London
BEGIN:DAYLIGHT
TZOFFSETFROM:+0000
TZOFFSETTO:+0100
TZNAME:BST
DTSTART:20250330T010000
END:DAYLIGHT
BEGIN:STANDARD
TZOFFSETFROM:+0100
TZOFFSETTO:+0000
TZNAME:GMT
DTSTART:20251026T010000
END:STANDARD
BEGIN:DAYLIGHT
TZOFFSETFROM:+0000
TZOFFSETTO:+0100
TZNAME:BST
DTSTART:20260329T010000
END:DAYLIGHT
BEGIN:STANDARD
TZOFFSETFROM:+0100
TZOFFSETTO:+0000
TZNAME:GMT
DTSTART:20261025T010000
END:STANDARD
BEGIN:DAYLIGHT
TZOFFSETFROM:+0000
TZOFFSETTO:+0100
TZNAME:BST
DTSTART:20270328T010000
END:DAYLIGHT
BEGIN:STANDARD
TZOFFSETFROM:+0100
TZOFFSETTO:+0000
TZNAME:GMT
DTSTART:20271031T010000
END:STANDARD
END:VTIMEZONE
BEGIN:VEVENT
DTSTART;TZID=Europe/London:20260225T183000
DTEND;TZID=Europe/London:20260225T200000
DTSTAMP:20260421T104852
CREATED:20260217T135356Z
LAST-MODIFIED:20260217T135356Z
UID:59819-1772044200-1772049600@calendarioeventos.com
SUMMARY:Charla - Dónde está la felicidad
DESCRIPTION:Charla – «Dónde está la felicidad» en el Círculo Mercantil de Las Palmas de Gran Canaria. \nEl próximo 25 de febrero te invitamos a una tertulia diferente en el corazón de la ciudad. Un encuentro para reflexionar sobre la felicidad\, el dinero\, los momentos únicos y el valor de lo sencillo. \nUna conversación cercana\, humana y necesaria. \nCoordinada por Nieves Inmaculada González Romero. \nSi buscas planes culturales en Las Palmas\, actividades con sentido y espacios para compartir ideas en buena compañía\, esta tertulia es para ti. \nReserva tu tarde\, ven con mente abierta y ganas de conversar.
URL:https://calendarioeventos.com/en/evento/charla-donde-esta-la-felicidad/
LOCATION:Círculo Mercantil\, C. San Bernardo\, 8\, 35002 Las Palmas de Gran Canaria\, Las Palmas
CATEGORIES:Actividades,Charla,Eventos gratuitos,Las Palmas de GC
ATTACH;FMTTYPE=image/png:https://calendarioeventos.com/wp-content/uploads/2026/02/Screenshot-2026-02-17-at-13-51-27-Cuarta-Semana-•-Instagram.avif
END:VEVENT
END:VCALENDAR