BEGIN:VCALENDAR
VERSION:2.0
PRODID:-//Calendario de Eventos Gran Canaria - ECPv6.15.17.1//NONSGML v1.0//EN
CALSCALE:GREGORIAN
METHOD:PUBLISH
X-WR-CALNAME:Calendario de Eventos Gran Canaria
X-ORIGINAL-URL:https://calendarioeventos.com/en
X-WR-CALDESC:Events for Calendario de Eventos Gran Canaria
REFRESH-INTERVAL;VALUE=DURATION:PT1H
X-Robots-Tag:noindex
X-PUBLISHED-TTL:PT1H
BEGIN:VTIMEZONE
TZID:Europe/London
BEGIN:DAYLIGHT
TZOFFSETFROM:+0000
TZOFFSETTO:+0100
TZNAME:BST
DTSTART:20250330T010000
END:DAYLIGHT
BEGIN:STANDARD
TZOFFSETFROM:+0100
TZOFFSETTO:+0000
TZNAME:GMT
DTSTART:20251026T010000
END:STANDARD
BEGIN:DAYLIGHT
TZOFFSETFROM:+0000
TZOFFSETTO:+0100
TZNAME:BST
DTSTART:20260329T010000
END:DAYLIGHT
BEGIN:STANDARD
TZOFFSETFROM:+0100
TZOFFSETTO:+0000
TZNAME:GMT
DTSTART:20261025T010000
END:STANDARD
BEGIN:DAYLIGHT
TZOFFSETFROM:+0000
TZOFFSETTO:+0100
TZNAME:BST
DTSTART:20270328T010000
END:DAYLIGHT
BEGIN:STANDARD
TZOFFSETFROM:+0100
TZOFFSETTO:+0000
TZNAME:GMT
DTSTART:20271031T010000
END:STANDARD
END:VTIMEZONE
BEGIN:VEVENT
DTSTART;TZID=Europe/London:20260309T160000
DTEND;TZID=Europe/London:20260309T173000
DTSTAMP:20260421T131328
CREATED:20260305T172430Z
LAST-MODIFIED:20260305T172448Z
UID:64737-1773072000-1773077400@calendarioeventos.com
SUMMARY:Charla - «Educar en Familia: Estrategias para el éxito escolar»
DESCRIPTION:Charla — «Educar en Familia: Estrategias para el éxito escolar» en el CEIP Profesor Rafael Gómez Santos\, San Mateo\, Gran Canaria. \nNueva jornada de Educar en Familia 2026\, programa formativo dirigido a familias. El próximo lunes 9 de marzo tendrá lugar una nueva sesión\, un espacio pensado para acompañar a madres\, padres y familias en la educación y el bienestar de sus hijos e hijas. Estrategias para el éxito escolar\, con Beatriz Díaz\, pedagoga.  \nA partir de las 16:00 horas en el CEIP Profesor Rafael Gómez Santos.  \nInscripción previa en: educacion@vegadesanmateo.org. Teléfonos: 628656750 / 618313302.  \nConsulta todos los detalles en el cartel adjunto y participa con tu familia.
URL:https://calendarioeventos.com/en/evento/charla-educar-en-familia-estrategias-para-el-exito-escolar/
LOCATION:CEIP Profesor Rafael Gómez Santos\, C. del Agua\, 35320 Vega de San Mateo\, Las Palmas
CATEGORIES:Actividades,Charla,Eventos gratuitos,Infantil,San Mateo
ATTACH;FMTTYPE=image/jpeg:https://calendarioeventos.com/wp-content/uploads/2026/03/charla-educar-en-familia-estrategias-para-el-1772731453544.avif
END:VEVENT
END:VCALENDAR