BEGIN:VCALENDAR
VERSION:2.0
PRODID:-//Calendario de Eventos Gran Canaria - ECPv6.15.17.1//NONSGML v1.0//EN
CALSCALE:GREGORIAN
METHOD:PUBLISH
X-WR-CALNAME:Calendario de Eventos Gran Canaria
X-ORIGINAL-URL:https://calendarioeventos.com/en
X-WR-CALDESC:Events for Calendario de Eventos Gran Canaria
REFRESH-INTERVAL;VALUE=DURATION:PT1H
X-Robots-Tag:noindex
X-PUBLISHED-TTL:PT1H
BEGIN:VTIMEZONE
TZID:Europe/London
BEGIN:DAYLIGHT
TZOFFSETFROM:+0000
TZOFFSETTO:+0100
TZNAME:BST
DTSTART:20250330T010000
END:DAYLIGHT
BEGIN:STANDARD
TZOFFSETFROM:+0100
TZOFFSETTO:+0000
TZNAME:GMT
DTSTART:20251026T010000
END:STANDARD
BEGIN:DAYLIGHT
TZOFFSETFROM:+0000
TZOFFSETTO:+0100
TZNAME:BST
DTSTART:20260329T010000
END:DAYLIGHT
BEGIN:STANDARD
TZOFFSETFROM:+0100
TZOFFSETTO:+0000
TZNAME:GMT
DTSTART:20261025T010000
END:STANDARD
BEGIN:DAYLIGHT
TZOFFSETFROM:+0000
TZOFFSETTO:+0100
TZNAME:BST
DTSTART:20270328T010000
END:DAYLIGHT
BEGIN:STANDARD
TZOFFSETFROM:+0100
TZOFFSETTO:+0000
TZNAME:GMT
DTSTART:20271031T010000
END:STANDARD
END:VTIMEZONE
BEGIN:VEVENT
DTSTART;TZID=Europe/London:20260305T190000
DTEND;TZID=Europe/London:20260305T200000
DTSTAMP:20260420T213042
CREATED:20260224T111001Z
LAST-MODIFIED:20260224T111001Z
UID:61562-1772737200-1772740800@calendarioeventos.com
SUMMARY:Charla - El tiempo en Canarias
DESCRIPTION:Charla – «El tiempo en Canarias: Fenómenos meteorológicos y cómo estar bien informado» en la Biblioteca Municipal de Santa Brígida\, Gran Canaria. \n\nUna charla divulgativa dirigida al público general y centrada en la comprensión del clima y del tiempo atmosférico en el Archipiélago. \nLa conferencia será impartida por José Antonio Monreal Martínez\, Técnico Superior de Meteorología de la Agencia Estatal de Meteorología (AEMET)\, adscrito a la Delegación Territorial de AEMET en Canarias. Monreal Martínez cuenta con una amplia trayectoria profesional en el ámbito de la predicción\, la observación meteorológica y el estudio del clima\, así como una destacada labor divulgativa relacionada con los fenómenos atmosféricos que afectan a las Islas. \nDurante la charla se abordarán\, de manera clara y accesible\, los principales elementos que determinan el clima de Canarias y cómo estos influyen en el tiempo que se registra habitualmente en el territorio insular. Asimismo\, se explicarán los riesgos asociados a determinadas situaciones meteorológicas adversas\, ayudando a diferenciar conceptos clave como aviso meteorológico y alerta\, fundamentales para una correcta interpretación de la información oficial. \nLa ponencia incluirá también una explicación del trabajo que desarrolla AEMET\, tanto en el estudio del clima como en las tareas de predicción y observación meteorológica. En este contexto\, se hará especial hincapié en cómo acceder a la información meteorológica a través de Internet\, identificar fuentes fiables y saber interpretar correctamente las previsiones para conocer qué tiempo va a hacer y dónde consultarlo. \nEsta actividad se enmarca dentro de la programación cultural y divulgativa de la Concejalía de Cultura que dirige Avelina Fernández Manrique de Lara. \nNota: la entrada es libre hasta completar aforo.
URL:https://calendarioeventos.com/en/evento/charla-el-tiempo-en-canarias/
LOCATION:Biblioteca Municipal de Santa Brígida\, C. el Calvario\, 23\, 35300 Sta Brígida\, Las Palmas
CATEGORIES:Actividades,Charla,Eventos gratuitos,Santa Brígida
ATTACH;FMTTYPE=image/jpeg:https://calendarioeventos.com/wp-content/uploads/2026/02/WhatsApp-Image-2026-01-16-at-20.07.29.avif
END:VEVENT
END:VCALENDAR