BEGIN:VCALENDAR
VERSION:2.0
PRODID:-//Calendario de Eventos Gran Canaria - ECPv6.15.17.1//NONSGML v1.0//EN
CALSCALE:GREGORIAN
METHOD:PUBLISH
X-WR-CALNAME:Calendario de Eventos Gran Canaria
X-ORIGINAL-URL:https://calendarioeventos.com/en
X-WR-CALDESC:Events for Calendario de Eventos Gran Canaria
REFRESH-INTERVAL;VALUE=DURATION:PT1H
X-Robots-Tag:noindex
X-PUBLISHED-TTL:PT1H
BEGIN:VTIMEZONE
TZID:Europe/London
BEGIN:DAYLIGHT
TZOFFSETFROM:+0000
TZOFFSETTO:+0100
TZNAME:BST
DTSTART:20250330T010000
END:DAYLIGHT
BEGIN:STANDARD
TZOFFSETFROM:+0100
TZOFFSETTO:+0000
TZNAME:GMT
DTSTART:20251026T010000
END:STANDARD
BEGIN:DAYLIGHT
TZOFFSETFROM:+0000
TZOFFSETTO:+0100
TZNAME:BST
DTSTART:20260329T010000
END:DAYLIGHT
BEGIN:STANDARD
TZOFFSETFROM:+0100
TZOFFSETTO:+0000
TZNAME:GMT
DTSTART:20261025T010000
END:STANDARD
BEGIN:DAYLIGHT
TZOFFSETFROM:+0000
TZOFFSETTO:+0100
TZNAME:BST
DTSTART:20270328T010000
END:DAYLIGHT
BEGIN:STANDARD
TZOFFSETFROM:+0100
TZOFFSETTO:+0000
TZNAME:GMT
DTSTART:20271031T010000
END:STANDARD
END:VTIMEZONE
BEGIN:VEVENT
DTSTART;TZID=Europe/London:20260115T193000
DTEND;TZID=Europe/London:20260115T210000
DTSTAMP:20260423T151946
CREATED:20251210T215351Z
LAST-MODIFIED:20260103T152351Z
UID:42450-1768505400-1768510800@calendarioeventos.com
SUMMARY:Charla: Industrias culturales y creativas puentes con África
DESCRIPTION:Charla: Industrias culturales y creativas puentes con África\, en Café D’espacio\, Las Palmas de Gran Canaria. \nLa charla será a cargo del Agente de Desarrollo Cultural en África\, Jorge Padrón Rodríguez. Más información en: jprkultur@gmail.com \n#CooperaciónDescentralizada #DiplomaciaCultural #TalentoCanario
URL:https://calendarioeventos.com/en/evento/charla-industrias-culturales-y-creativas-puentes-con-africa/
LOCATION:Café d’Espacio\, Calle Cebrián\, 54\, 35003 Las Palmas de Gran Canaria\, Las Palmas
CATEGORIES:Actividades,Arte,Charla,Eventos gratuitos,Las Palmas de GC
END:VEVENT
END:VCALENDAR