BEGIN:VCALENDAR
VERSION:2.0
PRODID:-//Calendario de Eventos Gran Canaria - ECPv6.15.17.1//NONSGML v1.0//EN
CALSCALE:GREGORIAN
METHOD:PUBLISH
X-WR-CALNAME:Calendario de Eventos Gran Canaria
X-ORIGINAL-URL:https://calendarioeventos.com/en
X-WR-CALDESC:Events for Calendario de Eventos Gran Canaria
REFRESH-INTERVAL;VALUE=DURATION:PT1H
X-Robots-Tag:noindex
X-PUBLISHED-TTL:PT1H
BEGIN:VTIMEZONE
TZID:Europe/London
BEGIN:DAYLIGHT
TZOFFSETFROM:+0000
TZOFFSETTO:+0100
TZNAME:BST
DTSTART:20250330T010000
END:DAYLIGHT
BEGIN:STANDARD
TZOFFSETFROM:+0100
TZOFFSETTO:+0000
TZNAME:GMT
DTSTART:20251026T010000
END:STANDARD
BEGIN:DAYLIGHT
TZOFFSETFROM:+0000
TZOFFSETTO:+0100
TZNAME:BST
DTSTART:20260329T010000
END:DAYLIGHT
BEGIN:STANDARD
TZOFFSETFROM:+0100
TZOFFSETTO:+0000
TZNAME:GMT
DTSTART:20261025T010000
END:STANDARD
BEGIN:DAYLIGHT
TZOFFSETFROM:+0000
TZOFFSETTO:+0100
TZNAME:BST
DTSTART:20270328T010000
END:DAYLIGHT
BEGIN:STANDARD
TZOFFSETFROM:+0100
TZOFFSETTO:+0000
TZNAME:GMT
DTSTART:20271031T010000
END:STANDARD
END:VTIMEZONE
BEGIN:VEVENT
DTSTART;TZID=Europe/London:20260328T200000
DTEND;TZID=Europe/London:20260328T213000
DTSTAMP:20260425T050439
CREATED:20260224T132034Z
LAST-MODIFIED:20260224T132035Z
UID:61671-1774728000-1774733400@calendarioeventos.com
SUMMARY:Charla — «Javier Santaolalla. El Club de la Tusa. ¿Qué es el tiempo?»
DESCRIPTION:Charla — Javier Santaolalla. El Club de la Tusa. ¿Qué es el tiempo? en el Teatro Pérez Galdós\, Las Palmas de Gran Canaria. \nUn espectáculo en vivo de Javier Santaolalla que combina ciencia\, música\, historia\, poesía y humor. En esta entrega de El Club de la Tusa\, el reconocido divulgador científico nos guía a través de un viaje intelectual y entretenido para intentar responder a una de las preguntas más enigmáticas de la humanidad: ¿qué es realmente el tiempo? \nEntradas en este enlace \nEl club de la Tusa es un show único que mezcla en un cóctel sin igual de música\, poesía y ciencia para explorar las emociones humanas más profundas. \nCreado y dirigido por Javier Santaolalla\, Doctor en Física de Partículas y divulgador científico\, esta propuesta artística busca transformar el desamor en arte. Para ello\, mezcla nociones de historia y mitología con reflexiones sobre la vida\, el amor y la condición humana\, aderezado —como no podía ser de otra manera— con mucha física y piezas musicales interpretadas al piano en directo. \nMás que un espectáculo\, es una experiencia catártica y emotiva\, también didáctica\, que ha logrado conectar con toda clase de público desde lo más íntimo a través de la magia de las palabras\, la música y la ciencia.
URL:https://calendarioeventos.com/en/evento/charla-javier-santaolalla-el-club-de-la-tusa-que-es-el-tiempo/
LOCATION:Teatro Pérez Galdós\, Plaza de Stagno\, 35002 Las Palmas de Gran Canaria\, Las Palmas
CATEGORIES:Actividades,Charla,Humor,Las Palmas de GC,Música
ATTACH;FMTTYPE=image/jpeg:https://calendarioeventos.com/wp-content/uploads/2026/02/699da59fda552-aEh4Ss.avif
END:VEVENT
END:VCALENDAR