BEGIN:VCALENDAR
VERSION:2.0
PRODID:-//Calendario de Eventos Gran Canaria - ECPv6.15.17.1//NONSGML v1.0//EN
CALSCALE:GREGORIAN
METHOD:PUBLISH
X-WR-CALNAME:Calendario de Eventos Gran Canaria
X-ORIGINAL-URL:https://calendarioeventos.com/en
X-WR-CALDESC:Events for Calendario de Eventos Gran Canaria
REFRESH-INTERVAL;VALUE=DURATION:PT1H
X-Robots-Tag:noindex
X-PUBLISHED-TTL:PT1H
BEGIN:VTIMEZONE
TZID:Europe/London
BEGIN:DAYLIGHT
TZOFFSETFROM:+0000
TZOFFSETTO:+0100
TZNAME:BST
DTSTART:20250330T010000
END:DAYLIGHT
BEGIN:STANDARD
TZOFFSETFROM:+0100
TZOFFSETTO:+0000
TZNAME:GMT
DTSTART:20251026T010000
END:STANDARD
BEGIN:DAYLIGHT
TZOFFSETFROM:+0000
TZOFFSETTO:+0100
TZNAME:BST
DTSTART:20260329T010000
END:DAYLIGHT
BEGIN:STANDARD
TZOFFSETFROM:+0100
TZOFFSETTO:+0000
TZNAME:GMT
DTSTART:20261025T010000
END:STANDARD
BEGIN:DAYLIGHT
TZOFFSETFROM:+0000
TZOFFSETTO:+0100
TZNAME:BST
DTSTART:20270328T010000
END:DAYLIGHT
BEGIN:STANDARD
TZOFFSETFROM:+0100
TZOFFSETTO:+0000
TZNAME:GMT
DTSTART:20271031T010000
END:STANDARD
END:VTIMEZONE
BEGIN:VEVENT
DTSTART;TZID=Europe/London:20260319T113000
DTEND;TZID=Europe/London:20260319T130000
DTSTAMP:20260419T172923
CREATED:20260313T182816Z
LAST-MODIFIED:20260313T182817Z
UID:66046-1773919800-1773925200@calendarioeventos.com
SUMMARY:Charla — «Jornada informativa: Subvención Cuota Cero para nuevos autónomos»
DESCRIPTION:Charla — Jornada informativa: Subvención Cuota Cero para nuevos autónomos en la Cámara de Comercio de Gran Canaria\, Las Palmas de Gran Canaria. \nSi te has dado de alta como autónomo recientemente o estás pensando en hacerlo\, esta sesión es para ti. La Cámara de Comercio de Gran Canaria organiza una jornada informativa para explicar en detalle la subvención Cuota Cero 2026 del Gobierno de Canarias\, destinada a apoyar el inicio y consolidación de la actividad autónoma.  \nDurante la sesión abordaremos: En qué consiste la subvención y quién puede solicitarla. Requisitos y documentación necesaria. Plazos de presentación y cómo tramitar la solicitud correctamente. Tipos de bonificaciones. Consejos prácticos para evitar errores y agilizar el proceso. \nAdemás\, resolveremos dudas en directo para que puedas presentar tu solicitud con seguridad. Sesión presencial y gratuita. \nInscripción en este enlace
URL:https://calendarioeventos.com/en/evento/charla-jornada-informativa-subvencion-cuota-cero-para-nuevos-autonomos/
LOCATION:Cámara Oficial de Comercio\, Industria\, Servicios y Navegación de Gran Canaria\, C. León y Castillo\, 24\, Planta 1ª\, 35003 Las Palmas de Gran Canaria\, Las Palmas
CATEGORIES:Actividades,Charla,Eventos gratuitos,Las Palmas de GC
ATTACH;FMTTYPE=image/jpeg:https://calendarioeventos.com/wp-content/uploads/2026/03/charla-jornada-informativa-subvenci-n-cuota-ce-1773426495035.jpeg
END:VEVENT
END:VCALENDAR