BEGIN:VCALENDAR
VERSION:2.0
PRODID:-//Calendario de Eventos Gran Canaria - ECPv6.15.17.1//NONSGML v1.0//EN
CALSCALE:GREGORIAN
METHOD:PUBLISH
X-WR-CALNAME:Calendario de Eventos Gran Canaria
X-ORIGINAL-URL:https://calendarioeventos.com/en
X-WR-CALDESC:Events for Calendario de Eventos Gran Canaria
REFRESH-INTERVAL;VALUE=DURATION:PT1H
X-Robots-Tag:noindex
X-PUBLISHED-TTL:PT1H
BEGIN:VTIMEZONE
TZID:Europe/London
BEGIN:DAYLIGHT
TZOFFSETFROM:+0000
TZOFFSETTO:+0100
TZNAME:BST
DTSTART:20240331T010000
END:DAYLIGHT
BEGIN:STANDARD
TZOFFSETFROM:+0100
TZOFFSETTO:+0000
TZNAME:GMT
DTSTART:20241027T010000
END:STANDARD
BEGIN:DAYLIGHT
TZOFFSETFROM:+0000
TZOFFSETTO:+0100
TZNAME:BST
DTSTART:20250330T010000
END:DAYLIGHT
BEGIN:STANDARD
TZOFFSETFROM:+0100
TZOFFSETTO:+0000
TZNAME:GMT
DTSTART:20251026T010000
END:STANDARD
BEGIN:DAYLIGHT
TZOFFSETFROM:+0000
TZOFFSETTO:+0100
TZNAME:BST
DTSTART:20260329T010000
END:DAYLIGHT
BEGIN:STANDARD
TZOFFSETFROM:+0100
TZOFFSETTO:+0000
TZNAME:GMT
DTSTART:20261025T010000
END:STANDARD
END:VTIMEZONE
BEGIN:VEVENT
DTSTART;TZID=Europe/London:20251113T190000
DTEND;TZID=Europe/London:20251113T210000
DTSTAMP:20260419T172807
CREATED:20251029T141953Z
LAST-MODIFIED:20251029T141953Z
UID:10008263-1763060400-1763067600@calendarioeventos.com
SUMMARY:Charla - La proyección atlántica en la historia de la literatura canaria
DESCRIPTION:Charla – Seminario ‘La proyección atlántica en la historia de la literatura canaria’ en la Casa-Museo León y Castillo\, Telde\, Gran Canaria. \nPor Antonio Puente. \nSeminario que intenta ofrecer una visión panorámica\, por orden cronológico\, de aque llos autores en cuyas obras se recogen aspectos que contribuyen a la conformación de unas señas de identidad atlántica. El seminario se completará con otros autores y / o períodos el próximo año\, con el propósito de obtener una mirada global de la literatura canaria en su sentido más universal. \nDÍA 13: LOS ORíGENES\nDÍA 26: LA EVOLUCIóN DEL MODERNISMO EN CANARIAS\nDÍA 3 Diciembre: DOS MIRADAS FORáNEAS \nActividad gratuita. Aforo limitado (30 personas).
URL:https://calendarioeventos.com/en/evento/charla-la-proyeccion-atlantica-en-la-historia-de-la-literatura-canaria/2025-11-13/
LOCATION:Casa-Museo León y Castillo\, C. León y Castillo\, 43\, 35200 Telde\, Las Palmas
CATEGORIES:Actividades,Charla,Eventos gratuitos,Literatura,Telde
END:VEVENT
END:VCALENDAR