BEGIN:VCALENDAR
VERSION:2.0
PRODID:-//Calendario de Eventos Gran Canaria - ECPv6.15.17.1//NONSGML v1.0//EN
CALSCALE:GREGORIAN
METHOD:PUBLISH
X-WR-CALNAME:Calendario de Eventos Gran Canaria
X-ORIGINAL-URL:https://calendarioeventos.com/en
X-WR-CALDESC:Events for Calendario de Eventos Gran Canaria
REFRESH-INTERVAL;VALUE=DURATION:PT1H
X-Robots-Tag:noindex
X-PUBLISHED-TTL:PT1H
BEGIN:VTIMEZONE
TZID:Europe/London
BEGIN:DAYLIGHT
TZOFFSETFROM:+0000
TZOFFSETTO:+0100
TZNAME:BST
DTSTART:20240331T010000
END:DAYLIGHT
BEGIN:STANDARD
TZOFFSETFROM:+0100
TZOFFSETTO:+0000
TZNAME:GMT
DTSTART:20241027T010000
END:STANDARD
BEGIN:DAYLIGHT
TZOFFSETFROM:+0000
TZOFFSETTO:+0100
TZNAME:BST
DTSTART:20250330T010000
END:DAYLIGHT
BEGIN:STANDARD
TZOFFSETFROM:+0100
TZOFFSETTO:+0000
TZNAME:GMT
DTSTART:20251026T010000
END:STANDARD
BEGIN:DAYLIGHT
TZOFFSETFROM:+0000
TZOFFSETTO:+0100
TZNAME:BST
DTSTART:20260329T010000
END:DAYLIGHT
BEGIN:STANDARD
TZOFFSETFROM:+0100
TZOFFSETTO:+0000
TZNAME:GMT
DTSTART:20261025T010000
END:STANDARD
END:VTIMEZONE
BEGIN:VEVENT
DTSTART;TZID=Europe/London:20251218T190000
DTEND;TZID=Europe/London:20251218T203000
DTSTAMP:20260425T172231
CREATED:20251127T174141Z
LAST-MODIFIED:20251212T113115Z
UID:38143-1766084400-1766089800@calendarioeventos.com
SUMMARY:Charla - Lana Corujo: Escribir es mirar con las manos
DESCRIPTION:Charla de Lana Corujo ‘Escribir es mirar con las manos’ en la Casa-Museo Pérez Galdós\, Las Palmas de Gran Canaria. \nCiclo Escritoras en la Casa-Museo. Lana Corujo es ilustradora y escritora. \nLeonora Carrington nos deja esta revelación que transforma la mirada. Yo me pregunto: ¿Qué significa mirar?¿Cómo se mira escribiendo? Cuando escribo busco lo que se agita en lo invisible. Escribo para construir un puente entre la imagen y el pensamiento\, entre la memoria y el presente\, entre el mundo\ny lo que habita en las sombras. Miro las palabras y siento que dentro de ellas habita algo más\, como un caballo que galopa en lo profundo\, esperando ser nombrado. \n  \nEntrada libre\, hasta completar aforo.
URL:https://calendarioeventos.com/en/evento/charla-lana-corujo-escribir-es-mirar-con-las-manos/
LOCATION:Casa-Museo Pérez Galdós\, Calle Cano 6\, Las Palmas de Gran Canaria\, Gran Canaria
CATEGORIES:Actividades,Charla,Eventos gratuitos,Las Palmas de GC,Literatura
ATTACH;FMTTYPE=image/png:https://calendarioeventos.com/wp-content/uploads/2025/11/Screenshot-2025-11-27-at-17-37-41-Agenda_Cultural_Cabildo_de_Gran_Canaria.pdf.avif
END:VEVENT
END:VCALENDAR