BEGIN:VCALENDAR
VERSION:2.0
PRODID:-//Calendario de Eventos Gran Canaria - ECPv6.15.17.1//NONSGML v1.0//EN
CALSCALE:GREGORIAN
METHOD:PUBLISH
X-WR-CALNAME:Calendario de Eventos Gran Canaria
X-ORIGINAL-URL:https://calendarioeventos.com/en
X-WR-CALDESC:Events for Calendario de Eventos Gran Canaria
REFRESH-INTERVAL;VALUE=DURATION:PT1H
X-Robots-Tag:noindex
X-PUBLISHED-TTL:PT1H
BEGIN:VTIMEZONE
TZID:Europe/London
BEGIN:DAYLIGHT
TZOFFSETFROM:+0000
TZOFFSETTO:+0100
TZNAME:BST
DTSTART:20250330T010000
END:DAYLIGHT
BEGIN:STANDARD
TZOFFSETFROM:+0100
TZOFFSETTO:+0000
TZNAME:GMT
DTSTART:20251026T010000
END:STANDARD
BEGIN:DAYLIGHT
TZOFFSETFROM:+0000
TZOFFSETTO:+0100
TZNAME:BST
DTSTART:20260329T010000
END:DAYLIGHT
BEGIN:STANDARD
TZOFFSETFROM:+0100
TZOFFSETTO:+0000
TZNAME:GMT
DTSTART:20261025T010000
END:STANDARD
BEGIN:DAYLIGHT
TZOFFSETFROM:+0000
TZOFFSETTO:+0100
TZNAME:BST
DTSTART:20270328T010000
END:DAYLIGHT
BEGIN:STANDARD
TZOFFSETFROM:+0100
TZOFFSETTO:+0000
TZNAME:GMT
DTSTART:20271031T010000
END:STANDARD
END:VTIMEZONE
BEGIN:VEVENT
DTSTART;TZID=Europe/London:20260317T200000
DTEND;TZID=Europe/London:20260317T213000
DTSTAMP:20260423T095149
CREATED:20260223T103509Z
LAST-MODIFIED:20260223T103511Z
UID:60964-1773777600-1773783000@calendarioeventos.com
SUMMARY:Charla — «Las edades del humor»
DESCRIPTION:Charla / Mesa Redonda — Las edades del humor en el Paraninfo de ULPGC\, Las Palmas de Gran Canaria. \nComo seguimos dentro de nuestro XX aniversario\, nos ha parecido que el asunto de la edad viene bien para poder comprobar si el humor envejece o si es posible mantenerlo joven dentro de unos márgenes razonables. Lo que parece cierto es que nuestro sentido del humor cambia y evoluciona exactamente como nosotros… incluso puede llegar a desaparecer. Algunas personas mantienen un elemental sentido del humor como en los años de la adolescencia y otras llegan a conservar un humor longevo en años y capacidades. Veremos que dicen las personas invitadas a nuestra mesa. Participantes: Yanely Hernández (actriz y humorista)\, Dr. D. José Luis Hernández Fleta (psiquiatra)\, Pepín Tre (humorista)\, Juan Luis Calero (humorista)\, Gregorio Figueras (humorista de Piedra Pómez) y Francisco Santana (humorista de Piedra Pómez y moderador). \nLa entrada es libre hasta completar aforo.
URL:https://calendarioeventos.com/en/evento/charla-las-edades-del-humor/
LOCATION:Paraninfo ULPGC\, C. Juan de Quesada\, 30\, 35001 Las Palmas de Gran Canaria\, Las Palmas
CATEGORIES:Actividades,Charla,Eventos gratuitos,Humor,Las Palmas de GC
ATTACH;FMTTYPE=image/png:https://calendarioeventos.com/wp-content/uploads/2026/02/captura_de_pantalla_2026-02-20_090713-D5Vp9P.avif
END:VEVENT
END:VCALENDAR