BEGIN:VCALENDAR
VERSION:2.0
PRODID:-//Calendario de Eventos Gran Canaria - ECPv6.15.17.1//NONSGML v1.0//EN
CALSCALE:GREGORIAN
METHOD:PUBLISH
X-WR-CALNAME:Calendario de Eventos Gran Canaria
X-ORIGINAL-URL:https://calendarioeventos.com/en
X-WR-CALDESC:Events for Calendario de Eventos Gran Canaria
REFRESH-INTERVAL;VALUE=DURATION:PT1H
X-Robots-Tag:noindex
X-PUBLISHED-TTL:PT1H
BEGIN:VTIMEZONE
TZID:Europe/London
BEGIN:DAYLIGHT
TZOFFSETFROM:+0000
TZOFFSETTO:+0100
TZNAME:BST
DTSTART:20240331T010000
END:DAYLIGHT
BEGIN:STANDARD
TZOFFSETFROM:+0100
TZOFFSETTO:+0000
TZNAME:GMT
DTSTART:20241027T010000
END:STANDARD
BEGIN:DAYLIGHT
TZOFFSETFROM:+0000
TZOFFSETTO:+0100
TZNAME:BST
DTSTART:20250330T010000
END:DAYLIGHT
BEGIN:STANDARD
TZOFFSETFROM:+0100
TZOFFSETTO:+0000
TZNAME:GMT
DTSTART:20251026T010000
END:STANDARD
BEGIN:DAYLIGHT
TZOFFSETFROM:+0000
TZOFFSETTO:+0100
TZNAME:BST
DTSTART:20260329T010000
END:DAYLIGHT
BEGIN:STANDARD
TZOFFSETFROM:+0100
TZOFFSETTO:+0000
TZNAME:GMT
DTSTART:20261025T010000
END:STANDARD
END:VTIMEZONE
BEGIN:VEVENT
DTSTART;TZID=Europe/London:20251217T190000
DTEND;TZID=Europe/London:20251217T203000
DTSTAMP:20260425T184046
CREATED:20251217T172347Z
LAST-MODIFIED:20251217T172347Z
UID:44785-1765998000-1766003400@calendarioeventos.com
SUMMARY:Charla - Latitud 28
DESCRIPTION:Charla – «Latitud 28 y la lucha cultural antifranquista» en el Centro Franchy Roca\, Las Palmas de Gran Canaria. \nEl próximo miércoles 17 de diciembre\, a las 19:00 horas\, el Centro Franchy Roca de Las Palmas de G.C. acoge un debate abierto sobre uno de las experiencias más interesantes\, y controvertidas\, de la lucha antifranquista en Canarias. El colectivo «Latitud 28»\, surgido en los años 60\, que fusionó la cultura con la acción política en un contexto de dura represión y acabó protagonizando el célebre episodio de la caída en Sardina del Norte. ¿Qué balance puede hacerse de aquella experiencia? ¿Estuvo marcada por una línea «aventurera» o era coherente con el propósito de sacar a la superficie la lucha antifranquista? ¿Qué enseñanzas deja hoy «Latitud 28»? Estas y otras cuestiones se abordarán en un encuentro que pretende debatir sobre temas pendientes durante casi 60 años
URL:https://calendarioeventos.com/en/evento/charla-latitud-28/
LOCATION:Centro Franchy Roca\, C. Barcelona\, 19\, 1 Piso\, 35006 Las Palmas de Gran Canaria\, Las Palmas
CATEGORIES:Actividades,Charla,Eventos gratuitos,Las Palmas de GC
ATTACH;FMTTYPE=image/jpeg:https://calendarioeventos.com/wp-content/uploads/2025/12/6548_carteldebatet.avif
END:VEVENT
END:VCALENDAR