BEGIN:VCALENDAR
VERSION:2.0
PRODID:-//Calendario de Eventos Gran Canaria - ECPv6.15.17.1//NONSGML v1.0//EN
CALSCALE:GREGORIAN
METHOD:PUBLISH
X-WR-CALNAME:Calendario de Eventos Gran Canaria
X-ORIGINAL-URL:https://calendarioeventos.com/en
X-WR-CALDESC:Events for Calendario de Eventos Gran Canaria
REFRESH-INTERVAL;VALUE=DURATION:PT1H
X-Robots-Tag:noindex
X-PUBLISHED-TTL:PT1H
BEGIN:VTIMEZONE
TZID:Europe/London
BEGIN:DAYLIGHT
TZOFFSETFROM:+0000
TZOFFSETTO:+0100
TZNAME:BST
DTSTART:20250330T010000
END:DAYLIGHT
BEGIN:STANDARD
TZOFFSETFROM:+0100
TZOFFSETTO:+0000
TZNAME:GMT
DTSTART:20251026T010000
END:STANDARD
BEGIN:DAYLIGHT
TZOFFSETFROM:+0000
TZOFFSETTO:+0100
TZNAME:BST
DTSTART:20260329T010000
END:DAYLIGHT
BEGIN:STANDARD
TZOFFSETFROM:+0100
TZOFFSETTO:+0000
TZNAME:GMT
DTSTART:20261025T010000
END:STANDARD
BEGIN:DAYLIGHT
TZOFFSETFROM:+0000
TZOFFSETTO:+0100
TZNAME:BST
DTSTART:20270328T010000
END:DAYLIGHT
BEGIN:STANDARD
TZOFFSETFROM:+0100
TZOFFSETTO:+0000
TZNAME:GMT
DTSTART:20271031T010000
END:STANDARD
END:VTIMEZONE
BEGIN:VEVENT
DTSTART;TZID=Europe/London:20260122T170000
DTEND;TZID=Europe/London:20260122T180000
DTSTAMP:20260425T043539
CREATED:20251225T110808Z
LAST-MODIFIED:20251225T110808Z
UID:47279-1769101200-1769104800@calendarioeventos.com
SUMMARY:Charla - Métodos de extracción del café
DESCRIPTION:Charla – Métodos de extracción del café en el Work Café Santander\, Las Palmas de Gran Canaria. \n¿Te apasiona el café? En Work Café Las Palmas te invitamos a descubrir los distintos métodos de extracción más populares del mundo que además tu mismo puedes realizar en casa. Acompáñanos en esta experiencia sensorial\, guiada por nuestros baristas\, y degusta las diferencias que hacen de cada preparación una forma única de disfrutar el café. Ven\, aprende y comparte una buena taza en el lugar donde las ideas y el aroma del café se encuentran. \nApuntate en este enlace.
URL:https://calendarioeventos.com/en/evento/charla-metodos-de-extraccion-del-cafe/
LOCATION:Santander Work Café – Banco Santander\, Av. José Mesa y López\, 21\, 35006 Las Palmas de Gran Canaria\, Las Palmas
CATEGORIES:Actividades,Charla,Gastronomía,Las Palmas de GC
END:VEVENT
END:VCALENDAR