BEGIN:VCALENDAR
VERSION:2.0
PRODID:-//Calendario de Eventos Gran Canaria - ECPv6.15.17.1//NONSGML v1.0//EN
CALSCALE:GREGORIAN
METHOD:PUBLISH
X-WR-CALNAME:Calendario de Eventos Gran Canaria
X-ORIGINAL-URL:https://calendarioeventos.com/en
X-WR-CALDESC:Events for Calendario de Eventos Gran Canaria
REFRESH-INTERVAL;VALUE=DURATION:PT1H
X-Robots-Tag:noindex
X-PUBLISHED-TTL:PT1H
BEGIN:VTIMEZONE
TZID:Europe/London
BEGIN:DAYLIGHT
TZOFFSETFROM:+0000
TZOFFSETTO:+0100
TZNAME:BST
DTSTART:20250330T010000
END:DAYLIGHT
BEGIN:STANDARD
TZOFFSETFROM:+0100
TZOFFSETTO:+0000
TZNAME:GMT
DTSTART:20251026T010000
END:STANDARD
BEGIN:DAYLIGHT
TZOFFSETFROM:+0000
TZOFFSETTO:+0100
TZNAME:BST
DTSTART:20260329T010000
END:DAYLIGHT
BEGIN:STANDARD
TZOFFSETFROM:+0100
TZOFFSETTO:+0000
TZNAME:GMT
DTSTART:20261025T010000
END:STANDARD
BEGIN:DAYLIGHT
TZOFFSETFROM:+0000
TZOFFSETTO:+0100
TZNAME:BST
DTSTART:20270328T010000
END:DAYLIGHT
BEGIN:STANDARD
TZOFFSETFROM:+0100
TZOFFSETTO:+0000
TZNAME:GMT
DTSTART:20271031T010000
END:STANDARD
END:VTIMEZONE
BEGIN:VEVENT
DTSTART;TZID=Europe/London:20260318T163000
DTEND;TZID=Europe/London:20260318T180000
DTSTAMP:20260419T185218
CREATED:20260314T113028Z
LAST-MODIFIED:20260314T113029Z
UID:66289-1773851400-1773856800@calendarioeventos.com
SUMMARY:Charla - «Mujeres Empresarias y Comunicación 2026»
DESCRIPTION:Charla — «Mujeres Empresarias y Comunicación 2026» en el Teatro Municipal Juan Ramón Jiménez\, Telde\, Gran Canaria. \n2ª Edición Mujeres Empresarias y Comunicación 2026. Foro sobre bienestar\, comunicación y emprendimiento femenino. El próximo 18 de marzo\, el Teatro Municipal Juan Ramón Jiménez se convertirá en el epicentro del talento\, la inspiración y el liderazgo femenino.  \nTras el éxito de su primera edición\, vuelve este encuentro imprescindible donde cinco grandes ponentes compartirán conocimientos\, experiencias y herramientas reales sobre salud y bienestar\, liderazgo y emprendimiento\, Inteligencia Artificial aplicada a los negocios\, comunicación estratégica y mucho más.  \nUn espacio diseñado para aprender\, conectar\, crecer y potenciar tu desarrollo profesional y personal. Además\, los asistentes disfrutarán de sorpresas especiales que harán de esta jornada una experiencia inolvidable. Entrada libre y gratuita previa inscripción.  \nApertura de puertas + networking 16:30 h. Comienzo 17:00 h.  \nEste evento cuenta con el patrocinio del Gobierno de Canarias Islas Iguales y está organizado por PCL Radio y De Reojo La Revista\, comprometidas con impulsar el talento\, la visibilidad y la comunicación en Canarias. Porque cuando las mujeres lideran\, comunican y emprenden\, transforman el mundo. \nInscripción en este enlace
URL:https://calendarioeventos.com/en/evento/charla-mujeres-empresarias-y-comunicacion-2026/
LOCATION:Teatro Municipal Juan Ramón Jiménez\, C. Poeta Pablo Neruda\, 1\, 35200 Telde\, Las Palmas
CATEGORIES:Actividades,Charla,Eventos gratuitos,Telde
ATTACH;FMTTYPE=image/jpeg:https://calendarioeventos.com/wp-content/uploads/2026/03/charla-mujeres-empresarias-y-comunicaci-n-2026-1773487827212.jpeg
END:VEVENT
END:VCALENDAR