BEGIN:VCALENDAR
VERSION:2.0
PRODID:-//Calendario de Eventos Gran Canaria - ECPv6.15.17.1//NONSGML v1.0//EN
CALSCALE:GREGORIAN
METHOD:PUBLISH
X-WR-CALNAME:Calendario de Eventos Gran Canaria
X-ORIGINAL-URL:https://calendarioeventos.com/en
X-WR-CALDESC:Events for Calendario de Eventos Gran Canaria
REFRESH-INTERVAL;VALUE=DURATION:PT1H
X-Robots-Tag:noindex
X-PUBLISHED-TTL:PT1H
BEGIN:VTIMEZONE
TZID:Europe/London
BEGIN:DAYLIGHT
TZOFFSETFROM:+0000
TZOFFSETTO:+0100
TZNAME:BST
DTSTART:20240331T010000
END:DAYLIGHT
BEGIN:STANDARD
TZOFFSETFROM:+0100
TZOFFSETTO:+0000
TZNAME:GMT
DTSTART:20241027T010000
END:STANDARD
BEGIN:DAYLIGHT
TZOFFSETFROM:+0000
TZOFFSETTO:+0100
TZNAME:BST
DTSTART:20250330T010000
END:DAYLIGHT
BEGIN:STANDARD
TZOFFSETFROM:+0100
TZOFFSETTO:+0000
TZNAME:GMT
DTSTART:20251026T010000
END:STANDARD
BEGIN:DAYLIGHT
TZOFFSETFROM:+0000
TZOFFSETTO:+0100
TZNAME:BST
DTSTART:20260329T010000
END:DAYLIGHT
BEGIN:STANDARD
TZOFFSETFROM:+0100
TZOFFSETTO:+0000
TZNAME:GMT
DTSTART:20261025T010000
END:STANDARD
END:VTIMEZONE
BEGIN:VEVENT
DTSTART;TZID=Europe/London:20251112T170000
DTEND;TZID=Europe/London:20251112T190000
DTSTAMP:20260419T184548
CREATED:20251105T090916Z
LAST-MODIFIED:20251112T130934Z
UID:29862-1762966800-1762974000@calendarioeventos.com
SUMMARY:Charla - Paisaje animado/paisaje desanimado
DESCRIPTION:Charla «Paisaje animado/paisaje desanimado» dentro del Festival TAC!2025 en la Plaza de Stagno\, Las Palmas de Gran Canaria. \nTándems TAC! Diálogos sobre el paisaje: «Paisaje animado/paisaje desanimado» \nEn este encuentro\, coordinado y moderado por Marina Romero (arquitecta)\, intervendrán: David Baute (director de cine y ganador del Goya a Mejor Película de Animación por ‘Mariposas negras’) y Manolo Feo Ojeda (doctor\, arquitecto y profesor del Departamento de Expresión Gráfica y Proyectos Arquitectónicos de la Escuela Técnica Superior de Arquitectura de la ULPGC) \nEl miércoles nuestra roca madre se convierte en el escenario de un nuevo tándem TAC!: ‘Paisaje animado/paisaje desanimado’ 💡✨ \n🟠 En esta ocasión\, @lpaurbanismo nos trae el encuentro entre dos expertos que nos invitarán a explorar el diálogo entre cine\, arquitectura y paisaje 🎬🏛️🌳 \n🟠 Coordinado y moderado por @marinaromero.arquitectura\, este tándem contará con dos voces de lujo 👥💬\n🔸 David Baute\, director de cine y ganador del Goya a Mejor Película de Animación por @mariposasnegrasfilm 📽️🦋\n🔸 @manuel_feo_ojeda\, doctor en Arquitectura y profesor del Departamento de Expresión Gráfica y Proyectos Arquitectónicos de la Escuela Técnica Superior de Arquitectura de @ulpgc_para_ti 👨🏼‍🏫🏗️
URL:https://calendarioeventos.com/en/evento/charla-paisaje-animado-paisaje-desanimado/
LOCATION:Plaza de Stagno\, 35002 Las Palmas de Gran Canaria\, Las Palmas
CATEGORIES:Actividades,Charla,Eventos gratuitos,Las Palmas de GC
ATTACH;FMTTYPE=image/png:https://calendarioeventos.com/wp-content/uploads/2025/11/Screenshot-2025-11-11-at-10-01-33-Instagram.avif
END:VEVENT
END:VCALENDAR