BEGIN:VCALENDAR
VERSION:2.0
PRODID:-//Calendario de Eventos Gran Canaria - ECPv6.15.17.1//NONSGML v1.0//EN
CALSCALE:GREGORIAN
METHOD:PUBLISH
X-WR-CALNAME:Calendario de Eventos Gran Canaria
X-ORIGINAL-URL:https://calendarioeventos.com/en
X-WR-CALDESC:Events for Calendario de Eventos Gran Canaria
REFRESH-INTERVAL;VALUE=DURATION:PT1H
X-Robots-Tag:noindex
X-PUBLISHED-TTL:PT1H
BEGIN:VTIMEZONE
TZID:Europe/London
BEGIN:DAYLIGHT
TZOFFSETFROM:+0000
TZOFFSETTO:+0100
TZNAME:BST
DTSTART:20240331T010000
END:DAYLIGHT
BEGIN:STANDARD
TZOFFSETFROM:+0100
TZOFFSETTO:+0000
TZNAME:GMT
DTSTART:20241027T010000
END:STANDARD
BEGIN:DAYLIGHT
TZOFFSETFROM:+0000
TZOFFSETTO:+0100
TZNAME:BST
DTSTART:20250330T010000
END:DAYLIGHT
BEGIN:STANDARD
TZOFFSETFROM:+0100
TZOFFSETTO:+0000
TZNAME:GMT
DTSTART:20251026T010000
END:STANDARD
BEGIN:DAYLIGHT
TZOFFSETFROM:+0000
TZOFFSETTO:+0100
TZNAME:BST
DTSTART:20260329T010000
END:DAYLIGHT
BEGIN:STANDARD
TZOFFSETFROM:+0100
TZOFFSETTO:+0000
TZNAME:GMT
DTSTART:20261025T010000
END:STANDARD
END:VTIMEZONE
BEGIN:VEVENT
DTSTART;TZID=Europe/London:20251112T190000
DTEND;TZID=Europe/London:20251112T203000
DTSTAMP:20260419T184410
CREATED:20251029T141548Z
LAST-MODIFIED:20251029T141548Z
UID:26780-1762974000-1762979400@calendarioeventos.com
SUMMARY:Charla - Saulo Torón\, ante el bronce de Alonso Quesada
DESCRIPTION:Charla de Samir Delgado: Saulo Torón\, ante el bronce de Alonso Quesada en la Casa-Museo León y Castillo\, Telde\, Gran Canaria. \nActividades gratuitas. Aforo limitado.
URL:https://calendarioeventos.com/en/evento/charla-saulo-toron-ante-el-bronce-de-alonso-quesada/
LOCATION:Casa-Museo León y Castillo\, C. León y Castillo\, 43\, 35200 Telde\, Las Palmas
CATEGORIES:Actividades,Charla,Eventos gratuitos,Literatura,Telde
END:VEVENT
END:VCALENDAR