BEGIN:VCALENDAR
VERSION:2.0
PRODID:-//Calendario de Eventos Gran Canaria - ECPv6.15.17.1//NONSGML v1.0//EN
CALSCALE:GREGORIAN
METHOD:PUBLISH
X-WR-CALNAME:Calendario de Eventos Gran Canaria
X-ORIGINAL-URL:https://calendarioeventos.com/en
X-WR-CALDESC:Events for Calendario de Eventos Gran Canaria
REFRESH-INTERVAL;VALUE=DURATION:PT1H
X-Robots-Tag:noindex
X-PUBLISHED-TTL:PT1H
BEGIN:VTIMEZONE
TZID:Europe/London
BEGIN:DAYLIGHT
TZOFFSETFROM:+0000
TZOFFSETTO:+0100
TZNAME:BST
DTSTART:20240331T010000
END:DAYLIGHT
BEGIN:STANDARD
TZOFFSETFROM:+0100
TZOFFSETTO:+0000
TZNAME:GMT
DTSTART:20241027T010000
END:STANDARD
BEGIN:DAYLIGHT
TZOFFSETFROM:+0000
TZOFFSETTO:+0100
TZNAME:BST
DTSTART:20250330T010000
END:DAYLIGHT
BEGIN:STANDARD
TZOFFSETFROM:+0100
TZOFFSETTO:+0000
TZNAME:GMT
DTSTART:20251026T010000
END:STANDARD
BEGIN:DAYLIGHT
TZOFFSETFROM:+0000
TZOFFSETTO:+0100
TZNAME:BST
DTSTART:20260329T010000
END:DAYLIGHT
BEGIN:STANDARD
TZOFFSETFROM:+0100
TZOFFSETTO:+0000
TZNAME:GMT
DTSTART:20261025T010000
END:STANDARD
END:VTIMEZONE
BEGIN:VEVENT
DTSTART;TZID=Europe/London:20251113T190000
DTEND;TZID=Europe/London:20251113T203000
DTSTAMP:20260419T172333
CREATED:20251029T141818Z
LAST-MODIFIED:20251111T105828Z
UID:26783-1763060400-1763065800@calendarioeventos.com
SUMMARY:Charla - Silvia Nanclares: Contarnos en la multitud
DESCRIPTION:Charla de Silvia Nanclares: Contarnos en la multitud en la Casa-Museo Pérez Galdós\, Las Palmas de Gran Canaria. \nCiclo Escritoras en la Casa-Museo. Autosociobiografía o autobiografía colectiva desde el yo. \nSilvia Nanclares (Madrid\, 1975) se licenció en Dramaturgia por la Real Escuela Superior de Arte Dramático (RESAD\, Madrid). Es la mitad de Tomo y Lomo\, el podcast literario de Carne Cruda Radio\, y columnista en Diario Público. En su última novela Nunca voló tan alto tu televisor ha tratado de narrar un período de la historia contemporánea buscando\nel equilibrio entre lo biográfico y lo histórico. Escribir un texto con raíces personales pero al mismo tiempo localizado en un imaginario colectivo ha supuesto un reto que la ha llevado a explorar en cuestiones como la voz narradora\, los espacios o la estructura. \nEntrada libre\, hasta completar aforo.
URL:https://calendarioeventos.com/en/evento/charla-silvia-nanclares-contarnos-en-la-multitud/
LOCATION:Casa-Museo Pérez Galdós\, Calle Cano 6\, Las Palmas de Gran Canaria\, Gran Canaria
CATEGORIES:Actividades,Charla,Eventos gratuitos,Las Palmas de GC,Literatura
ATTACH;FMTTYPE=image/png:https://calendarioeventos.com/wp-content/uploads/2025/10/Screenshot-2025-11-11-at-10-57-25-Instagram.avif
END:VEVENT
END:VCALENDAR