BEGIN:VCALENDAR
VERSION:2.0
PRODID:-//Calendario de Eventos Gran Canaria - ECPv6.15.17.1//NONSGML v1.0//EN
CALSCALE:GREGORIAN
METHOD:PUBLISH
X-WR-CALNAME:Calendario de Eventos Gran Canaria
X-ORIGINAL-URL:https://calendarioeventos.com/en
X-WR-CALDESC:Events for Calendario de Eventos Gran Canaria
REFRESH-INTERVAL;VALUE=DURATION:PT1H
X-Robots-Tag:noindex
X-PUBLISHED-TTL:PT1H
BEGIN:VTIMEZONE
TZID:Europe/London
BEGIN:DAYLIGHT
TZOFFSETFROM:+0000
TZOFFSETTO:+0100
TZNAME:BST
DTSTART:20250330T010000
END:DAYLIGHT
BEGIN:STANDARD
TZOFFSETFROM:+0100
TZOFFSETTO:+0000
TZNAME:GMT
DTSTART:20251026T010000
END:STANDARD
BEGIN:DAYLIGHT
TZOFFSETFROM:+0000
TZOFFSETTO:+0100
TZNAME:BST
DTSTART:20260329T010000
END:DAYLIGHT
BEGIN:STANDARD
TZOFFSETFROM:+0100
TZOFFSETTO:+0000
TZNAME:GMT
DTSTART:20261025T010000
END:STANDARD
BEGIN:DAYLIGHT
TZOFFSETFROM:+0000
TZOFFSETTO:+0100
TZNAME:BST
DTSTART:20270328T010000
END:DAYLIGHT
BEGIN:STANDARD
TZOFFSETFROM:+0100
TZOFFSETTO:+0000
TZNAME:GMT
DTSTART:20271031T010000
END:STANDARD
END:VTIMEZONE
BEGIN:VEVENT
DTSTART;TZID=Europe/London:20260313T170000
DTEND;TZID=Europe/London:20260313T183000
DTSTAMP:20260421T131231
CREATED:20260305T172825Z
LAST-MODIFIED:20260305T172839Z
UID:64747-1773421200-1773426600@calendarioeventos.com
SUMMARY:Charla - «Superación del duelo y resiliencia» - Sardina
DESCRIPTION:Charla — «Superación del duelo y resiliencia» en el Club del Mayor de Sardina\, Gáldar\, Gran Canaria. \nEl Proyecto de Envejecimiento Activo\, perteneciente a la Concejalía del Mayor del Ayuntamiento de Gáldar que dirige Dolores Delgado Jorge\, incluye charlas orientadas a promover el bienestar emocional\, la salud mental y la calidad de vida de las personas mayores del municipio. Esta charla se celebra el 13 de marzo a las 17:00 en el Club Mayor Sardina y ofrece herramientas para afrontar pérdidas significativas y fortalecer la capacidad de adaptación ante situaciones difíciles.  \nActividades para mayores de 60 años\, jubilad@s y/o pensionistas. Inscripciones: 928 88 00 50 ext. 5141\, envejecimientoactivogaldar@gmail.com y presencialmente en el Club del Mayor de Gáldar de 9:00 a 13:00.  \nPlazas limitadas.
URL:https://calendarioeventos.com/en/evento/charla-superacion-del-duelo-y-resiliencia-sardina/
LOCATION:Club del Mayor Estrella del Norte Sardina\, C. Severo Ochoa\, 90\, 35469 Puerto de Sardina\, Las Palmas
CATEGORIES:Actividades,Eventos gratuitos,Gáldar,Mayores,Taller
ATTACH;FMTTYPE=image/jpeg:https://calendarioeventos.com/wp-content/uploads/2026/03/charla-superaci-n-del-duelo-y-resiliencia-sa-1772731687899.avif
END:VEVENT
END:VCALENDAR