BEGIN:VCALENDAR
VERSION:2.0
PRODID:-//Calendario de Eventos Gran Canaria - ECPv6.15.17.1//NONSGML v1.0//EN
CALSCALE:GREGORIAN
METHOD:PUBLISH
X-WR-CALNAME:Calendario de Eventos Gran Canaria
X-ORIGINAL-URL:https://calendarioeventos.com/en
X-WR-CALDESC:Events for Calendario de Eventos Gran Canaria
REFRESH-INTERVAL;VALUE=DURATION:PT1H
X-Robots-Tag:noindex
X-PUBLISHED-TTL:PT1H
BEGIN:VTIMEZONE
TZID:Europe/London
BEGIN:DAYLIGHT
TZOFFSETFROM:+0000
TZOFFSETTO:+0100
TZNAME:BST
DTSTART:20250330T010000
END:DAYLIGHT
BEGIN:STANDARD
TZOFFSETFROM:+0100
TZOFFSETTO:+0000
TZNAME:GMT
DTSTART:20251026T010000
END:STANDARD
BEGIN:DAYLIGHT
TZOFFSETFROM:+0000
TZOFFSETTO:+0100
TZNAME:BST
DTSTART:20260329T010000
END:DAYLIGHT
BEGIN:STANDARD
TZOFFSETFROM:+0100
TZOFFSETTO:+0000
TZNAME:GMT
DTSTART:20261025T010000
END:STANDARD
BEGIN:DAYLIGHT
TZOFFSETFROM:+0000
TZOFFSETTO:+0100
TZNAME:BST
DTSTART:20270328T010000
END:DAYLIGHT
BEGIN:STANDARD
TZOFFSETFROM:+0100
TZOFFSETTO:+0000
TZNAME:GMT
DTSTART:20271031T010000
END:STANDARD
END:VTIMEZONE
BEGIN:VEVENT
DTSTART;TZID=Europe/London:20260225T190000
DTEND;TZID=Europe/London:20260225T210000
DTSTAMP:20260421T063224
CREATED:20260217T135118Z
LAST-MODIFIED:20260217T135118Z
UID:59816-1772046000-1772053200@calendarioeventos.com
SUMMARY:Charla - Tod@s contamos
DESCRIPTION:Charla – Tod@s contamos: prevención de la conducta suicida en el Centro Cultural Federico García Lorca de Villa de Ingenio. \nPonente: Don Calixto Herrera Rodríguez. \nConferencia abierta a la ciudadanía sobre la prevención de la conducta suicida \nEl colectivo Marikas Rurales impulsa un espacio de reflexión y herramientas prácticas bajo el lema «Tod@s contamos» \nSalón de conferencias.
URL:https://calendarioeventos.com/en/evento/charla-tods-contamos/
LOCATION:Centro Cultural Federico García Lorca\, C. Ramón y Cajal\, 19\, 35250 Ingenio\, Las Palmas
CATEGORIES:Actividades,Charla,Eventos gratuitos,Ingenio
ATTACH;FMTTYPE=image/png:https://calendarioeventos.com/wp-content/uploads/2026/02/Screenshot-2026-02-17-at-13-48-09-Cuarta-Semana-•-Instagram.avif
END:VEVENT
END:VCALENDAR