BEGIN:VCALENDAR
VERSION:2.0
PRODID:-//Calendario de Eventos Gran Canaria - ECPv6.15.17.1//NONSGML v1.0//EN
CALSCALE:GREGORIAN
METHOD:PUBLISH
X-WR-CALNAME:Calendario de Eventos Gran Canaria
X-ORIGINAL-URL:https://calendarioeventos.com/en
X-WR-CALDESC:Events for Calendario de Eventos Gran Canaria
REFRESH-INTERVAL;VALUE=DURATION:PT1H
X-Robots-Tag:noindex
X-PUBLISHED-TTL:PT1H
BEGIN:VTIMEZONE
TZID:Europe/London
BEGIN:DAYLIGHT
TZOFFSETFROM:+0000
TZOFFSETTO:+0100
TZNAME:BST
DTSTART:20240331T010000
END:DAYLIGHT
BEGIN:STANDARD
TZOFFSETFROM:+0100
TZOFFSETTO:+0000
TZNAME:GMT
DTSTART:20241027T010000
END:STANDARD
BEGIN:DAYLIGHT
TZOFFSETFROM:+0000
TZOFFSETTO:+0100
TZNAME:BST
DTSTART:20250330T010000
END:DAYLIGHT
BEGIN:STANDARD
TZOFFSETFROM:+0100
TZOFFSETTO:+0000
TZNAME:GMT
DTSTART:20251026T010000
END:STANDARD
BEGIN:DAYLIGHT
TZOFFSETFROM:+0000
TZOFFSETTO:+0100
TZNAME:BST
DTSTART:20260329T010000
END:DAYLIGHT
BEGIN:STANDARD
TZOFFSETFROM:+0100
TZOFFSETTO:+0000
TZNAME:GMT
DTSTART:20261025T010000
END:STANDARD
END:VTIMEZONE
BEGIN:VEVENT
DTSTART;TZID=Europe/London:20251208T110000
DTEND;TZID=Europe/London:20251208T140000
DTSTAMP:20260423T144307
CREATED:20251207T153810Z
LAST-MODIFIED:20251207T153810Z
UID:41330-1765191600-1765202400@calendarioeventos.com
SUMMARY:Charla - Viaje al pasado de Artenara
DESCRIPTION:Charla «Viaje al pasado de Artenara» en el Centro Cultural de Artenara\, Gran Canaria. \nEsta iniciativa propone un recorrido por la historia del municipio a través de un formato participativo basado en preguntas\, relatos y reflexiones sobre la memoria histórica local. \nLa actividad busca acercar a la ciudadanía los acontecimientos\, costumbres y vivencias que han marcado la identidad del pueblo a lo largo del tiempo. \nDurante estas jornadas\, el público tendrá la oportunidad de interactuar directamente con el cronista\, plantear inquietudes y profundizar en los episodios más significativos del pasado de Artenara\, convirtiendo cada encuentro en una experiencia dinámica y enriquecedora.
URL:https://calendarioeventos.com/en/evento/charla-viaje-al-pasado-de-artenara/
LOCATION:Centro Cultural de Artenara\, Av. Matías Vega\, 7\, 35350 Artenara\, Las Palmas
CATEGORIES:Actividades,Artenara,Charla,Eventos gratuitos
ATTACH;FMTTYPE=image/png:https://calendarioeventos.com/wp-content/uploads/2025/12/Screenshot-2025-12-07-at-15-37-40-Instagram.avif
END:VEVENT
END:VCALENDAR