BEGIN:VCALENDAR
VERSION:2.0
PRODID:-//Calendario de Eventos Gran Canaria - ECPv6.15.17.1//NONSGML v1.0//EN
CALSCALE:GREGORIAN
METHOD:PUBLISH
X-WR-CALNAME:Calendario de Eventos Gran Canaria
X-ORIGINAL-URL:https://calendarioeventos.com/en
X-WR-CALDESC:Events for Calendario de Eventos Gran Canaria
REFRESH-INTERVAL;VALUE=DURATION:PT1H
X-Robots-Tag:noindex
X-PUBLISHED-TTL:PT1H
BEGIN:VTIMEZONE
TZID:Europe/London
BEGIN:DAYLIGHT
TZOFFSETFROM:+0000
TZOFFSETTO:+0100
TZNAME:BST
DTSTART:20250330T010000
END:DAYLIGHT
BEGIN:STANDARD
TZOFFSETFROM:+0100
TZOFFSETTO:+0000
TZNAME:GMT
DTSTART:20251026T010000
END:STANDARD
BEGIN:DAYLIGHT
TZOFFSETFROM:+0000
TZOFFSETTO:+0100
TZNAME:BST
DTSTART:20260329T010000
END:DAYLIGHT
BEGIN:STANDARD
TZOFFSETFROM:+0100
TZOFFSETTO:+0000
TZNAME:GMT
DTSTART:20261025T010000
END:STANDARD
BEGIN:DAYLIGHT
TZOFFSETFROM:+0000
TZOFFSETTO:+0100
TZNAME:BST
DTSTART:20270328T010000
END:DAYLIGHT
BEGIN:STANDARD
TZOFFSETFROM:+0100
TZOFFSETTO:+0000
TZNAME:GMT
DTSTART:20271031T010000
END:STANDARD
END:VTIMEZONE
BEGIN:VEVENT
DTSTART;TZID=Europe/London:20260318T190000
DTEND;TZID=Europe/London:20260318T204500
DTSTAMP:20260419T185106
CREATED:20260311T225953Z
LAST-MODIFIED:20260311T225954Z
UID:65756-1773860400-1773866700@calendarioeventos.com
SUMMARY:Cine - «Efecto cinema: La tarta del presidente»
DESCRIPTION:Cine — Efecto cinema: «La tarta del presidente» en Yelmo Cine Las Arenas\, Las Palmas de Gran Canaria. \nEFECTO CINEMA: LA TARTA DEL PRESIDENTE\, de Hasan Hadi. VOSE.  \nA principios de los 80\, en un hostil pueblo minero del desierto chileno\, Lidia\, una niña de 11 años\, crece dentro de una cariñosa familia queer. Se les culpa de tener una misteriosa enfermedad que\, según dicen en el pueblo\, se transmite a través de una sola mirada\, cuando un hombre se enamora de otro. En este western moderno\, Lidia emprende una búsqueda de venganza donde el amor podría ser el verdadero peligro y la familia su único refugio.  \nEntradas en Cine Yelmo Las Arenas.
URL:https://calendarioeventos.com/en/evento/cine-efecto-cinema-la-tarta-del-presidente/
LOCATION:Yelmo Cines Las Arenas\, Ctra. del Rincón\, 20\, 35010 Las Palmas de Gran Canaria\, Las Palmas\, Las Palmas de Gran Canaria\, Las Palmas\, 35010\, Spain
CATEGORIES:Cine,Cultura,Las Palmas de GC
ATTACH;FMTTYPE=image/jpeg:https://calendarioeventos.com/wp-content/uploads/2026/03/cine-efecto-cinema-la-tarta-del-presidente-1773269993193.avif
END:VEVENT
END:VCALENDAR