BEGIN:VCALENDAR
VERSION:2.0
PRODID:-//Calendario de Eventos Gran Canaria - ECPv6.15.17.1//NONSGML v1.0//EN
CALSCALE:GREGORIAN
METHOD:PUBLISH
X-WR-CALNAME:Calendario de Eventos Gran Canaria
X-ORIGINAL-URL:https://calendarioeventos.com/en
X-WR-CALDESC:Events for Calendario de Eventos Gran Canaria
REFRESH-INTERVAL;VALUE=DURATION:PT1H
X-Robots-Tag:noindex
X-PUBLISHED-TTL:PT1H
BEGIN:VTIMEZONE
TZID:Europe/London
BEGIN:DAYLIGHT
TZOFFSETFROM:+0000
TZOFFSETTO:+0100
TZNAME:BST
DTSTART:20250330T010000
END:DAYLIGHT
BEGIN:STANDARD
TZOFFSETFROM:+0100
TZOFFSETTO:+0000
TZNAME:GMT
DTSTART:20251026T010000
END:STANDARD
BEGIN:DAYLIGHT
TZOFFSETFROM:+0000
TZOFFSETTO:+0100
TZNAME:BST
DTSTART:20260329T010000
END:DAYLIGHT
BEGIN:STANDARD
TZOFFSETFROM:+0100
TZOFFSETTO:+0000
TZNAME:GMT
DTSTART:20261025T010000
END:STANDARD
BEGIN:DAYLIGHT
TZOFFSETFROM:+0000
TZOFFSETTO:+0100
TZNAME:BST
DTSTART:20270328T010000
END:DAYLIGHT
BEGIN:STANDARD
TZOFFSETFROM:+0100
TZOFFSETTO:+0000
TZNAME:GMT
DTSTART:20271031T010000
END:STANDARD
END:VTIMEZONE
BEGIN:VEVENT
DTSTART;TZID=Europe/London:20260302T183000
DTEND;TZID=Europe/London:20260302T200000
DTSTAMP:20260423T224212
CREATED:20260228T224426Z
LAST-MODIFIED:20260228T224427Z
UID:63302-1772476200-1772481600@calendarioeventos.com
SUMMARY:Cine — «Justicia para Sohee»
DESCRIPTION:Cine — «Justicia para Sohee» en el Teatro CICCA\, Las Palmas de Gran Canaria. \nEl ciclo Narrativas femeninas en el cine coreano actual presenta la película Justicia para Sohee (2022)\, dirigida por July Jung.  \nEsta obra sitúa a las mujeres en el centro del relato\, abordando realidades sociales con sensibilidad y mirada crítica. La proyección forma parte de la programación de Cine Vértigo en el Teatro CICCA\, ofreciendo una oportunidad única para reflexionar sobre las presiones laborales y las injusticias sistémicas que enfrentan las jóvenes en la sociedad contemporánea.  \nEntradas en este enlace
URL:https://calendarioeventos.com/en/evento/cine-justicia-para-sohee/
LOCATION:Centro Cultural Cicca\, Alameda de Colon\, 1\, 35002 Las Palmas de Gran Canaria\, Las Palmas
CATEGORIES:Cine,Cultura,Eventos gratuitos,Las Palmas de GC
ATTACH;FMTTYPE=image/jpeg:https://calendarioeventos.com/wp-content/uploads/2026/02/cine-justicia-para-sohee-1772318663881.avif
END:VEVENT
END:VCALENDAR