BEGIN:VCALENDAR
VERSION:2.0
PRODID:-//Calendario de Eventos Gran Canaria - ECPv6.15.17.1//NONSGML v1.0//EN
CALSCALE:GREGORIAN
METHOD:PUBLISH
X-WR-CALNAME:Calendario de Eventos Gran Canaria
X-ORIGINAL-URL:https://calendarioeventos.com/en
X-WR-CALDESC:Events for Calendario de Eventos Gran Canaria
REFRESH-INTERVAL;VALUE=DURATION:PT1H
X-Robots-Tag:noindex
X-PUBLISHED-TTL:PT1H
BEGIN:VTIMEZONE
TZID:Europe/London
BEGIN:DAYLIGHT
TZOFFSETFROM:+0000
TZOFFSETTO:+0100
TZNAME:BST
DTSTART:20250330T010000
END:DAYLIGHT
BEGIN:STANDARD
TZOFFSETFROM:+0100
TZOFFSETTO:+0000
TZNAME:GMT
DTSTART:20251026T010000
END:STANDARD
BEGIN:DAYLIGHT
TZOFFSETFROM:+0000
TZOFFSETTO:+0100
TZNAME:BST
DTSTART:20260329T010000
END:DAYLIGHT
BEGIN:STANDARD
TZOFFSETFROM:+0100
TZOFFSETTO:+0000
TZNAME:GMT
DTSTART:20261025T010000
END:STANDARD
BEGIN:DAYLIGHT
TZOFFSETFROM:+0000
TZOFFSETTO:+0100
TZNAME:BST
DTSTART:20270328T010000
END:DAYLIGHT
BEGIN:STANDARD
TZOFFSETFROM:+0100
TZOFFSETTO:+0000
TZNAME:GMT
DTSTART:20271031T010000
END:STANDARD
END:VTIMEZONE
BEGIN:VEVENT
DTSTART;TZID=Europe/London:20260410T190000
DTEND;TZID=Europe/London:20260410T200000
DTSTAMP:20260420T203922
CREATED:20260330T105822Z
LAST-MODIFIED:20260330T105823Z
UID:68746-1775847600-1775851200@calendarioeventos.com
SUMMARY:Cine - Nika\, El calderón tropical
DESCRIPTION:Cine – Proyección del cortometraje «Nika\, El calderón tropical» en el Museo Elder\, Las Palmas de Gran Canaria. \nESPAÑA\, 2024; 29 mins; Just Minsk SL & Felipe Ravina Olivares; \n Un corto documental donde Felipe Ravina\, documentalista\, divulgador científico y graduado en Ciencias del Mar\, forja una conexión con un calderón tropical llamado Nika\, en la isla de Tenerife\, (Islas Canarias). Esa inusual conexión hacia el animal\, hace que su preocupación por el estado actual de la isla y su biodiversidad aumente. Es un grito al cielo por y para la protección\, conservación y defensa de los espacios naturales y su fauna de esta región ultraperiférica donde se encuentra la mayor población de calderones tropicales única en el mundo. \n La pieza muestra la sobreexplotación a la que está sometida Tenerife y la manera nefasta en la que se ha gestionado la isla en las últimas décadas. Un crecimiento infinito\, que no solo está amenazando más que nunca a los espacios naturales y su biodiversidad\, sino también a la convivencia y el desarrollo local de l@s tinerfeñ@s. \n Dirigido por Jose Hernández y Felipe Ravina Olivares\, este documental pretende impulsar un cambio hacia un desarrollo sostenible real\, con un futuro en el que convivamos con la naturaleza para seguir disfrutando de Tenerife y el resto de Canarias en su estado salvaje y natural. \n La pieza ha sido galardonada con más de 26 selecciones internacionales y ha sido galardonado con la Barandilla de Oro del CimaSub o seleccionado en el International Ocean Film Tour\, dos certámenes de gran prestigio nacional e internacional en el mundo del cine documental marino. \n Este documental ha sido grabado bajo el permiso y la autorización del Ministerio para la Transición Ecológica y el Reto Demográfico del Gobierno de España. Estos trabajos se encuentran regulados bajo el real decreto 1727/2007\, de 21 de diciembre\, por el que se establecen medidas de protección de los cetáceos. Nadar con cetáceos está prohibido en España. \n Venta de entradas en este enlace. \n Tras la finalización de la proyección habrá un coloquio.
URL:https://calendarioeventos.com/en/evento/cine-nika-el-calderon-tropical/
LOCATION:Museo Elder de la Ciencia y la Tecnología\, Parque Santa Catalina\, 35007 Las Palmas de Gran Canaria\, Las Palmas
CATEGORIES:Actividades,Charla,Cine,Las Palmas de GC
ATTACH;FMTTYPE=image/jpeg:https://calendarioeventos.com/wp-content/uploads/2026/03/Nika-36lwYx.avif
END:VEVENT
END:VCALENDAR