BEGIN:VCALENDAR
VERSION:2.0
PRODID:-//Calendario de Eventos Gran Canaria - ECPv6.15.17.1//NONSGML v1.0//EN
CALSCALE:GREGORIAN
METHOD:PUBLISH
X-WR-CALNAME:Calendario de Eventos Gran Canaria
X-ORIGINAL-URL:https://calendarioeventos.com/en
X-WR-CALDESC:Events for Calendario de Eventos Gran Canaria
REFRESH-INTERVAL;VALUE=DURATION:PT1H
X-Robots-Tag:noindex
X-PUBLISHED-TTL:PT1H
BEGIN:VTIMEZONE
TZID:Europe/London
BEGIN:DAYLIGHT
TZOFFSETFROM:+0000
TZOFFSETTO:+0100
TZNAME:BST
DTSTART:20250330T010000
END:DAYLIGHT
BEGIN:STANDARD
TZOFFSETFROM:+0100
TZOFFSETTO:+0000
TZNAME:GMT
DTSTART:20251026T010000
END:STANDARD
BEGIN:DAYLIGHT
TZOFFSETFROM:+0000
TZOFFSETTO:+0100
TZNAME:BST
DTSTART:20260329T010000
END:DAYLIGHT
BEGIN:STANDARD
TZOFFSETFROM:+0100
TZOFFSETTO:+0000
TZNAME:GMT
DTSTART:20261025T010000
END:STANDARD
BEGIN:DAYLIGHT
TZOFFSETFROM:+0000
TZOFFSETTO:+0100
TZNAME:BST
DTSTART:20270328T010000
END:DAYLIGHT
BEGIN:STANDARD
TZOFFSETFROM:+0100
TZOFFSETTO:+0000
TZNAME:GMT
DTSTART:20271031T010000
END:STANDARD
END:VTIMEZONE
BEGIN:VEVENT
DTSTART;TZID=Europe/London:20260310T180000
DTEND;TZID=Europe/London:20260310T193000
DTSTAMP:20260421T063509
CREATED:20260306T150356Z
LAST-MODIFIED:20260306T150400Z
UID:64816-1773165600-1773171000@calendarioeventos.com
SUMMARY:Cine - «Proyección de Como un árbol que florecer» Jinámar
DESCRIPTION:Cine — Proyección de «Como un árbol que florece» en la Asociación de mujeres Flora Tristán Jinámar\, Telde\, Gran Canaria. \nEl Ayuntamiento de Telde\, a través de la Concejalía de Igualdad que dirige Adela Álvarez\, ha preparado una programación cultural y social para conmemorar el Día Internacional de la Mujer y seguir reivindicando el papel de las mujeres en la sociedad. \n📅 Del 7 al 13 de marzo habrá teatro\, proyecciones\, encuentros entre asociaciones y la lectura del manifiesto institucional.
URL:https://calendarioeventos.com/en/evento/cine-proyeccion-de-como-un-arbol-que-florecer-jinamar/
LOCATION:Asociación de mujeres Flora Tristán\, C. Lomo de las Brujas\, 7\, 35220 Telde\, Las Palmas
CATEGORIES:Cine,Cultura,Eventos gratuitos,Telde
ATTACH;FMTTYPE=image/jpeg:https://calendarioeventos.com/wp-content/uploads/2026/03/cine-proyecci-n-de-como-un-rbol-que-florecer-1772809435348.avif
END:VEVENT
END:VCALENDAR