BEGIN:VCALENDAR
VERSION:2.0
PRODID:-//Calendario de Eventos Gran Canaria - ECPv6.15.17.1//NONSGML v1.0//EN
CALSCALE:GREGORIAN
METHOD:PUBLISH
X-WR-CALNAME:Calendario de Eventos Gran Canaria
X-ORIGINAL-URL:https://calendarioeventos.com/en
X-WR-CALDESC:Events for Calendario de Eventos Gran Canaria
REFRESH-INTERVAL;VALUE=DURATION:PT1H
X-Robots-Tag:noindex
X-PUBLISHED-TTL:PT1H
BEGIN:VTIMEZONE
TZID:Europe/London
BEGIN:DAYLIGHT
TZOFFSETFROM:+0000
TZOFFSETTO:+0100
TZNAME:BST
DTSTART:20250330T010000
END:DAYLIGHT
BEGIN:STANDARD
TZOFFSETFROM:+0100
TZOFFSETTO:+0000
TZNAME:GMT
DTSTART:20251026T010000
END:STANDARD
BEGIN:DAYLIGHT
TZOFFSETFROM:+0000
TZOFFSETTO:+0100
TZNAME:BST
DTSTART:20260329T010000
END:DAYLIGHT
BEGIN:STANDARD
TZOFFSETFROM:+0100
TZOFFSETTO:+0000
TZNAME:GMT
DTSTART:20261025T010000
END:STANDARD
BEGIN:DAYLIGHT
TZOFFSETFROM:+0000
TZOFFSETTO:+0100
TZNAME:BST
DTSTART:20270328T010000
END:DAYLIGHT
BEGIN:STANDARD
TZOFFSETFROM:+0100
TZOFFSETTO:+0000
TZNAME:GMT
DTSTART:20271031T010000
END:STANDARD
END:VTIMEZONE
BEGIN:VEVENT
DTSTART;TZID=Europe/London:20260319T190000
DTEND;TZID=Europe/London:20260319T203000
DTSTAMP:20260419T171732
CREATED:20260316T172235Z
LAST-MODIFIED:20260319T160903Z
UID:66408-1773946800-1773952200@calendarioeventos.com
SUMMARY:Cine — «Semillas»
DESCRIPTION:Cine — «Semillas» en el CCA Gran Canaria\, Las Palmas de Gran Canaria. \nEstrenamos Semillas en Gran Canaria! \nEl jueves 19 de marzo\, la guionista y directora colombiana Eliana Niño junto a la actriz grancanaria Aroha Hafez y el actor tinerfeño Juan Carlos Tacoronte\, presentarán Semillas en Gran Canaria. \nLa película está protagonizada por Shaira Castro\, Álvaro Chaparro\, Andrés Andrade\, Juan Carlos Tacoronte y Aroha Hafez. Shaira sueña con participar en un Torneo de Coleo\, sin embargo\, un día su caballo desaparece. En un atardecer llanero y en medio de una gran sequía\, su abuelo le dice que en el verano el cielo atrapa a los animales y que ellos solo regresan hasta el día en que vuelva a llover en la tierra. \nShaira encontrará la forma de hacer volver la lluvia para traer de vuelta a su caballo Semillas. Es una producción de Mgc \nMarketing en colaboración con las productoras colombianas NINO Visual y Little Bears en asociación con HD Cinema Colombia EU\, Estudio Roco\, con el apoyo del Fondo para el Desarrollo Cinematográfico de Colombia y Cine ICAA. \nEntrada libre según aforo.
URL:https://calendarioeventos.com/en/evento/cine-semillas/
LOCATION:CCA Gran Canaria\, C. Cádiz\, 34\, 35012 Las Palmas de Gran Canaria\, Las Palmas
CATEGORIES:Cine,Cultura,Eventos gratuitos,Las Palmas de GC
ATTACH;FMTTYPE=image/jpeg:https://calendarioeventos.com/wp-content/uploads/2026/03/cine-semillas-1773681754464.jpeg
END:VEVENT
END:VCALENDAR